BEGIN:VCALENDAR
VERSION:2.0
PRODID:-//InvisionCommunity Events 5.0.18//EN
METHOD:PUBLISH
CALSCALE:GREGORIAN
REFRESH-INTERVAL:PT15M
X-PUBLISHED-TTL:PT15M
X-WR-CALNAME:London and South East (LASER)
NAME:London and South East (LASER)
BEGIN:VTIMEZONE
TZID:Europe/London
TZURL:https://tzurl.org/zoneinfo/Europe/London
X-LIC-LOCATION:Europe/London
BEGIN:DAYLIGHT
TZOFFSETFROM:+0000
TZOFFSETTO:+0100
TZNAME:BST
DTSTART:20260329T020000Z
RRULE:FREQ=YEARLY;BYMONTH=3;BYDAY=-1SU
END:DAYLIGHT
BEGIN:STANDARD
TZOFFSETFROM:+0100
TZOFFSETTO:+0000
TZNAME:GMT
DTSTART:20261025T020000Z
RRULE:FREQ=YEARLY;BYMONTH=10;BYDAY=-1SU
END:STANDARD
END:VTIMEZONE
BEGIN:VEVENT
SUMMARY:Yoga with East Sussex Naturists
DTSTAMP:20251224T222519Z
SEQUENCE:0
UID:9988-7-0712e666d78c35a5e0181a336d457050@bn.org.uk
ORGANIZER;CN="alanpeill1951":notifications@bn.org.uk
DESCRIPTION: Please join with us for our continuing series of yoga prac
	tice.Our class is welcoming\, relaxed and for all ages (18+) and abilities
	 including beginners. Our teacher has taught yoga for many years and is hi
	ghly qualified.£13.00 per session including tea.Level access\, a short wa
	lk from the car park.Contact Alan 07486 424068  alanpeill@yahoo.comPhoto 
	by Timo Volz on Unsplash.
DTSTART:20260109T140000Z
DTEND:20260109T160000Z
END:VEVENT
END:VCALENDAR
