BEGIN:VCALENDAR
VERSION:2.0
PRODID:-//InvisionCommunity Events 5.0.18//EN
METHOD:PUBLISH
CALSCALE:GREGORIAN
REFRESH-INTERVAL:PT15M
X-PUBLISHED-TTL:PT15M
X-WR-CALNAME:South West
NAME:South West
BEGIN:VTIMEZONE
TZID:Europe/London
TZURL:https://tzurl.org/zoneinfo/Europe/London
X-LIC-LOCATION:Europe/London
BEGIN:DAYLIGHT
TZOFFSETFROM:+0000
TZOFFSETTO:+0100
TZNAME:BST
DTSTART:20260329T020000Z
RRULE:FREQ=YEARLY;BYMONTH=3;BYDAY=-1SU
END:DAYLIGHT
BEGIN:STANDARD
TZOFFSETFROM:+0100
TZOFFSETTO:+0000
TZNAME:GMT
DTSTART:20261025T020000Z
RRULE:FREQ=YEARLY;BYMONTH=10;BYDAY=-1SU
END:STANDARD
END:VTIMEZONE
BEGIN:VEVENT
SUMMARY:SWIM - Flamingo Community Pool in Axminister\, East Devon
DTSTAMP:20251216T234100Z
SEQUENCE:0
UID:9984-4-0712e666d78c35a5e0181a336d457050@bn.org.uk
ORGANIZER;CN="Andy Dyer":notifications@bn.org.uk
DESCRIPTION:Following the success of the first two swims\, Flamingo Comm
	unity Pool in Axminister\, Devon has organised another Naturist swim. The 
	next swim will be on Friday 23rd January 2026 from 8.30pm to 9.30pm.The ma
	in pool is 25m in length\, and at a temperature of 29 degrees Centigrade. 
	More details can be found on their website.Note: They also have a hydro po
	ol (at 34 degrees Centigrade)\, which may also be open for future visits i
	f the demand is sufficient. It is is not open on 23rd January.The cost is 
	£8 per person. If you wish to attend\, please phone the pool on 01297 358
	00\, payment to be made to confirm the booking.The pool will lock the fron
	t doors at 20:25\, so please arrive in good time. If you are going to be l
	ate\, please call the pool.Note: the front door What3Words is at: ///searc
	hing.innovate.flipping.#useitorloseit
DTSTART:20260123T203000Z
DTEND:20260123T213000Z
END:VEVENT
END:VCALENDAR
