BEGIN:VCALENDAR
VERSION:2.0
PRODID:-//InvisionCommunity Events 5.0.18//EN
METHOD:PUBLISH
CALSCALE:GREGORIAN
REFRESH-INTERVAL:PT15M
X-PUBLISHED-TTL:PT15M
X-WR-CALNAME:North West
NAME:North West
BEGIN:VTIMEZONE
TZID:Europe/London
TZURL:https://tzurl.org/zoneinfo/Europe/London
X-LIC-LOCATION:Europe/London
BEGIN:DAYLIGHT
TZOFFSETFROM:+0000
TZOFFSETTO:+0100
TZNAME:BST
DTSTART:20260329T020000Z
RRULE:FREQ=YEARLY;BYMONTH=3;BYDAY=-1SU
END:DAYLIGHT
BEGIN:STANDARD
TZOFFSETFROM:+0100
TZOFFSETTO:+0000
TZNAME:GMT
DTSTART:20261025T020000Z
RRULE:FREQ=YEARLY;BYMONTH=10;BYDAY=-1SU
END:STANDARD
END:VTIMEZONE
BEGIN:VEVENT
SUMMARY:Naked Fun Run & Brunch @ Liverpool Sun & Air
DTSTAMP:20251206T091141Z
SEQUENCE:0
UID:9953-5-0712e666d78c35a5e0181a336d457050@bn.org.uk
ORGANIZER;CN="Grandma Jane":notifications@bn.org.uk
DESCRIPTION:Naked New Years Day Run &amp\; BrunchJanuary 1\, 2026 11:00 
	am - 2:00 pmCome and join us for a refreshing morning run followed by a sa
	tisfying brunchRun start time – 11.00am Join us for a special New Yea
	r’s Day Brunch\, served at 12:30 PM. The cost is £7.50 per person.MenuS
	tart your meal with a refreshing glass of fresh orange juice.SausagesBacon
	MushroomsPlum TomatoesScrambled EggBlack PuddingBaked BeansHash BrownYour 
	meal also includes toast and butter.Book via the website https://lsas.org.
	uk/
DTSTART;VALUE=DATE:20260101
END:VEVENT
END:VCALENDAR
