BEGIN:VCALENDAR
VERSION:2.0
PRODID:-//InvisionCommunity Events 5.0.18//EN
METHOD:PUBLISH
CALSCALE:GREGORIAN
REFRESH-INTERVAL:PT15M
X-PUBLISHED-TTL:PT15M
X-WR-CALNAME:North West
NAME:North West
BEGIN:VTIMEZONE
TZID:Europe/London
TZURL:https://tzurl.org/zoneinfo/Europe/London
X-LIC-LOCATION:Europe/London
BEGIN:DAYLIGHT
TZOFFSETFROM:+0000
TZOFFSETTO:+0100
TZNAME:BST
DTSTART:20250330T020000Z
RRULE:FREQ=YEARLY;BYMONTH=3;BYDAY=-1SU
END:DAYLIGHT
BEGIN:STANDARD
TZOFFSETFROM:+0100
TZOFFSETTO:+0000
TZNAME:GMT
DTSTART:20251026T020000Z
RRULE:FREQ=YEARLY;BYMONTH=10;BYDAY=-1SU
END:STANDARD
END:VTIMEZONE
BEGIN:VEVENT
SUMMARY:New Year's Eve @ Liverpool Sun & Air
DTSTAMP:20251206T090603Z
SEQUENCE:0
UID:9952-5-0712e666d78c35a5e0181a336d457050@bn.org.uk
ORGANIZER;CN="Grandma Jane":notifications@bn.org.uk
DESCRIPTION:New Years Eve 2025December 31\, 2025 7:00 pm - January 1\, 2
	026 1:00 amLets make the last social event of 2025 another great evening.F
	ood served at 8.30pmMenu –Traditional Hot Pot served with crusty breadoO
	oOoOoBread &amp\; Butter PuddingEntertainment on the evening.Book via the 
	website https://lsas.org.uk/
DTSTART;VALUE=DATE:20251231
END:VEVENT
END:VCALENDAR
