BEGIN:VCALENDAR
VERSION:2.0
PRODID:-//InvisionCommunity Events 5.0.18//EN
METHOD:PUBLISH
CALSCALE:GREGORIAN
REFRESH-INTERVAL:PT15M
X-PUBLISHED-TTL:PT15M
X-WR-CALNAME:South West
NAME:South West
BEGIN:VTIMEZONE
TZID:Europe/London
TZURL:https://tzurl.org/zoneinfo/Europe/London
X-LIC-LOCATION:Europe/London
BEGIN:DAYLIGHT
TZOFFSETFROM:+0000
TZOFFSETTO:+0100
TZNAME:BST
DTSTART:20260329T020000Z
RRULE:FREQ=YEARLY;BYMONTH=3;BYDAY=-1SU
END:DAYLIGHT
BEGIN:STANDARD
TZOFFSETFROM:+0100
TZOFFSETTO:+0000
TZNAME:GMT
DTSTART:20261025T020000Z
RRULE:FREQ=YEARLY;BYMONTH=10;BYDAY=-1SU
END:STANDARD
END:VTIMEZONE
BEGIN:VEVENT
SUMMARY:Sauna Master Ritual
DTSTAMP:20251129T110527Z
SEQUENCE:0
UID:9925-4-0712e666d78c35a5e0181a336d457050@bn.org.uk
ORGANIZER;CN="michaeld":notifications@bn.org.uk
DESCRIPTION:Join Michael for a Sauna Ritual\, at Court Farm Lakes in Glo
	ucestershire \, this will be a traditional Finnish experience\, with the u
	se of Birch Whisks\, aromatherapy oils\, and meditation. The session lasts
	 90 mins\, have the site for 3 hours\, with a lake for swimming and a caf
	é to relax in. There will also be massage available with Fiona. This is m
	ore than just a sauna\, this is an amazing experience\, in a traditional n
	aturist environment. For more info head to nakedtravels.net or   https://w
	ww.eventbrite.co.uk/e/sauna-ritual-experience-tickets-1976324097577?aff=od
	dtdtcreator\n
DTSTART;VALUE=DATE:20260131
END:VEVENT
END:VCALENDAR
