BEGIN:VCALENDAR
VERSION:2.0
PRODID:-//InvisionCommunity Events 5.0.18//EN
METHOD:PUBLISH
CALSCALE:GREGORIAN
REFRESH-INTERVAL:PT15M
X-PUBLISHED-TTL:PT15M
X-WR-CALNAME:Eastern
NAME:Eastern
BEGIN:VTIMEZONE
TZID:Europe/London
TZURL:https://tzurl.org/zoneinfo/Europe/London
X-LIC-LOCATION:Europe/London
BEGIN:DAYLIGHT
TZOFFSETFROM:+0000
TZOFFSETTO:+0100
TZNAME:BST
DTSTART:20260329T020000Z
RRULE:FREQ=YEARLY;BYMONTH=3;BYDAY=-1SU
END:DAYLIGHT
BEGIN:STANDARD
TZOFFSETFROM:+0100
TZOFFSETTO:+0000
TZNAME:GMT
DTSTART:20261025T020000Z
RRULE:FREQ=YEARLY;BYMONTH=10;BYDAY=-1SU
END:STANDARD
END:VTIMEZONE
BEGIN:VEVENT
SUMMARY:Peterborough Lido Skinny-Dip
DTSTAMP:20251125T133944Z
SEQUENCE:0
UID:9923-8-0712e666d78c35a5e0181a336d457050@bn.org.uk
ORGANIZER;CN="nigel.bromley":notifications@bn.org.uk
DESCRIPTION:We will be back at Peterborough Lido for another exclusive e
	vening on Saturday 27th June. We will confirm the times when we have agree
	d them with the pool\, it's usually half-an-hour after the advertised clos
	ing time to the public.The Lido is at PE1 1YY and is easily accessible fro
	m the Peterborough grid roads\, from the A1 or the A47\, via the A1139. Th
	e large car park is on the left as you approach on Bishops Road having lef
	t the A1139 at the City Centre exit. It is also accessible from Peterborou
	gh railway station\, about a 1200-metre walk.It's worth checking the car p
	arking charges. We usually use Bishops Road car park but Riverside is also
	 useful. Look out that if you arrive rather early the charges can be a lot
	 more expensive than arriving just in time.https://www.peterborough.gov.uk
	/residents/parking/car-park-locationsCheers\,\nnib
DTSTART:20260627T173000Z
DTEND:20260627T193000Z
END:VEVENT
END:VCALENDAR
