BEGIN:VCALENDAR
VERSION:2.0
PRODID:-//InvisionCommunity Events 5.0.18//EN
METHOD:PUBLISH
CALSCALE:GREGORIAN
REFRESH-INTERVAL:PT15M
X-PUBLISHED-TTL:PT15M
X-WR-CALNAME:North West
NAME:North West
BEGIN:VTIMEZONE
TZID:Europe/London
TZURL:https://tzurl.org/zoneinfo/Europe/London
X-LIC-LOCATION:Europe/London
BEGIN:DAYLIGHT
TZOFFSETFROM:+0000
TZOFFSETTO:+0100
TZNAME:BST
DTSTART:20250330T020000Z
RRULE:FREQ=YEARLY;BYMONTH=3;BYDAY=-1SU
END:DAYLIGHT
BEGIN:STANDARD
TZOFFSETFROM:+0100
TZOFFSETTO:+0000
TZNAME:GMT
DTSTART:20251026T020000Z
RRULE:FREQ=YEARLY;BYMONTH=10;BYDAY=-1SU
END:STANDARD
END:VTIMEZONE
BEGIN:VEVENT
SUMMARY:NW Region Open Zoom Meeting
DTSTAMP:20251108T200243Z
SEQUENCE:0
UID:9860-5-0712e666d78c35a5e0181a336d457050@bn.org.uk
ORGANIZER;CN="Ron.O":notifications@bn.org.uk
DESCRIPTION:North West Region Open Zoom Meeting 30/11 @ 19.30 - 21.00.Al
	l BN North West members and BN North West Club members are welcome to 
	attend - Come along and ask the NW Team questions or send your questions 
	in advance via Email to: northwestrep@bn.org.uk - suggestions of new venue
	s for GBSD / NHW events are also welcome. Zoom Schedule.Topic: BN Nor
	th West Members' Open Zoom Meeting.\nDate &amp\; Time: November 30th 2025 
	@ 19:30. NW Zoom Meeting. Agenda 30.11.2025.docxRon O'Hare are is invitin
	g you to a scheduled Zoom meeting.Topic: NW Open Zoom Meeting.Time: Nov 30
	\, 2025 07:30 PM Greenwich Mean TimeJoin Zoom Meetinghttps://us06web.zoom.
	us/j/82054810054?pwd=rLbbtTtebcCKRGZKKes3LN6rZAML2I.1 Meeting ID: 820 5481
	 0054Passcode: 598094---Withington WhatsApp group!Due to the ongoing succe
	ss of the Withington GBSD - we now have a WhatsApp group that you can join
	 for updates and for you to ask questions. Just send your full name via Wh
	atsApp\, mentioning your request to join the group to Ron - 07761875675. 
DTSTART:20251130T193000Z
DTEND:20251130T210000Z
END:VEVENT
END:VCALENDAR
