BEGIN:VCALENDAR
VERSION:2.0
PRODID:-//InvisionCommunity Events 5.0.18//EN
METHOD:PUBLISH
CALSCALE:GREGORIAN
REFRESH-INTERVAL:PT15M
X-PUBLISHED-TTL:PT15M
X-WR-CALNAME:South West
NAME:South West
BEGIN:VTIMEZONE
TZID:Europe/London
TZURL:https://tzurl.org/zoneinfo/Europe/London
X-LIC-LOCATION:Europe/London
BEGIN:DAYLIGHT
TZOFFSETFROM:+0000
TZOFFSETTO:+0100
TZNAME:BST
DTSTART:20250330T020000Z
RRULE:FREQ=YEARLY;BYMONTH=3;BYDAY=-1SU
END:DAYLIGHT
BEGIN:STANDARD
TZOFFSETFROM:+0100
TZOFFSETTO:+0000
TZNAME:GMT
DTSTART:20251026T020000Z
RRULE:FREQ=YEARLY;BYMONTH=10;BYDAY=-1SU
END:STANDARD
END:VTIMEZONE
BEGIN:VEVENT
SUMMARY:Cardiff Cuppa\, Crafts & Chatter Meet up - Christmas Meet Up
DTSTAMP:20251103T045558Z
SEQUENCE:0
UID:9856-4-0712e666d78c35a5e0181a336d457050@bn.org.uk
ORGANIZER;CN="lashmo21":notifications@bn.org.uk
DESCRIPTION:*** Its Christmas Time****We have added an extra date in Nov
	ember so we can have our Annual Christmas Coffee Meet Up and enjoy\, craft
	s\, games and yummy'sWe are a lovely friendly group of naturists (it is cl
	othing optional) that enjoy a cuppa\, some very simple crafts and a good c
	hatter.There is now a charge of £5.00 per person for the meet up includin
	g a cuppa\, munchies &amp\; Party Games &amp\; Crafts  For this event you
	 MUST Book your space!!Please email me if you wish to attend this event on
	 linda.ashmore@bn.org.uk 
DTSTART:20251130T143000Z
DTEND:20251130T163000Z
END:VEVENT
END:VCALENDAR
