BEGIN:VCALENDAR
VERSION:2.0
PRODID:-//InvisionCommunity Events 5.0.18//EN
METHOD:PUBLISH
CALSCALE:GREGORIAN
REFRESH-INTERVAL:PT15M
X-PUBLISHED-TTL:PT15M
X-WR-CALNAME:South West
NAME:South West
BEGIN:VTIMEZONE
TZID:Europe/London
TZURL:https://tzurl.org/zoneinfo/Europe/London
X-LIC-LOCATION:Europe/London
BEGIN:DAYLIGHT
TZOFFSETFROM:+0000
TZOFFSETTO:+0100
TZNAME:BST
DTSTART:20250330T020000Z
RRULE:FREQ=YEARLY;BYMONTH=3;BYDAY=-1SU
END:DAYLIGHT
BEGIN:STANDARD
TZOFFSETFROM:+0100
TZOFFSETTO:+0000
TZNAME:GMT
DTSTART:20251026T020000Z
RRULE:FREQ=YEARLY;BYMONTH=10;BYDAY=-1SU
END:STANDARD
END:VTIMEZONE
BEGIN:VEVENT
SUMMARY:Nudie Dudie Swim
DTSTAMP:20251031T175138Z
SEQUENCE:0
UID:9852-4-0712e666d78c35a5e0181a336d457050@bn.org.uk
ORGANIZER;CN="Sunshinekid":notifications@bn.org.uk
DESCRIPTION:Sun 16th Nov 2025\, 15:30  16:30Nudie Dudie Swim Sunday 16t
	h November 2025 Llantwit Major Leisure CentreHam Lane East\, Llantwit Maj
	or CF61 1TQ New comer's please contact Andy on  07817773479  and brin
	g some ID  You can also sign in on our New Website\; http://nudiedudies
	.wales
DTSTART:20251116T153000Z
DTEND:20251116T163000Z
ATTENDEE;CN="paul453464";CUTYPE=INDIVIDUAL;PARTSTAT=ACCEPTED
	:notifications@bn.org.uk
END:VEVENT
END:VCALENDAR
