BEGIN:VCALENDAR
VERSION:2.0
PRODID:-//InvisionCommunity Events 5.0.18//EN
METHOD:PUBLISH
CALSCALE:GREGORIAN
REFRESH-INTERVAL:PT15M
X-PUBLISHED-TTL:PT15M
X-WR-CALNAME:South West
NAME:South West
BEGIN:VTIMEZONE
TZID:Europe/London
TZURL:https://tzurl.org/zoneinfo/Europe/London
X-LIC-LOCATION:Europe/London
BEGIN:DAYLIGHT
TZOFFSETFROM:+0000
TZOFFSETTO:+0100
TZNAME:BST
DTSTART:20260329T020000Z
RRULE:FREQ=YEARLY;BYMONTH=3;BYDAY=-1SU
END:DAYLIGHT
BEGIN:STANDARD
TZOFFSETFROM:+0100
TZOFFSETTO:+0000
TZNAME:GMT
DTSTART:20261025T020000Z
RRULE:FREQ=YEARLY;BYMONTH=10;BYDAY=-1SU
END:STANDARD
END:VTIMEZONE
BEGIN:VEVENT
SUMMARY:Plymouth Sun Club
DTSTAMP:20251029T115236Z
SEQUENCE:0
UID:9846-4-0712e666d78c35a5e0181a336d457050@bn.org.uk
ORGANIZER;CN="Graham and Julia":notifications@bn.org.uk
DESCRIPTION:Plymouth Sun Club meets monthly on a Monday evening for swim
	ming in Plympton Pool\, just on the outskirts of Plymouth. The usual date 
	is the first Monday of each month\, but when this is a Bank Holiday we mee
	t on the following Monday. Lane swimming is available for the serious swim
	mer while the remainder of the pool caters for the less energetic and thos
	e that just wish to socialise with friends.The hour long session commences
	 at 8.30pm and costs £8 for non members and £6 for members each evening.
	 Access to the pool is from 8.20pm although you can't disrobe until the pr
	evious session has finished and moved into the changing rooms.  Changing 
	for the naturist session is poolside and communal.Please take a look at o
	ur club website for full details\, follow the link HEREA condition of the
	 pool hire is a minimum age of 18 years.Many attending go onto our local p
	ub afterwards for a drink and chat and perhaps something to eat.You will b
	e sure of a warm welcome.
DTSTART:20261005T193000Z
DTEND:20261005T203000Z
END:VEVENT
END:VCALENDAR
