BEGIN:VCALENDAR
VERSION:2.0
PRODID:-//InvisionCommunity Events 5.0.18//EN
METHOD:PUBLISH
CALSCALE:GREGORIAN
REFRESH-INTERVAL:PT15M
X-PUBLISHED-TTL:PT15M
X-WR-CALNAME:London and South East (LASER)
NAME:London and South East (LASER)
BEGIN:VTIMEZONE
TZID:Europe/London
TZURL:https://tzurl.org/zoneinfo/Europe/London
X-LIC-LOCATION:Europe/London
BEGIN:DAYLIGHT
TZOFFSETFROM:+0000
TZOFFSETTO:+0100
TZNAME:BST
DTSTART:20250330T020000Z
RRULE:FREQ=YEARLY;BYMONTH=3;BYDAY=-1SU
END:DAYLIGHT
BEGIN:STANDARD
TZOFFSETFROM:+0100
TZOFFSETTO:+0000
TZNAME:GMT
DTSTART:20251026T020000Z
RRULE:FREQ=YEARLY;BYMONTH=10;BYDAY=-1SU
END:STANDARD
END:VTIMEZONE
BEGIN:VEVENT
SUMMARY:Southampton Swim
DTSTAMP:20251010T090130Z
SEQUENCE:0
UID:9808-7-0712e666d78c35a5e0181a336d457050@bn.org.uk
ORGANIZER;CN="Caroline94":notifications@bn.org.uk
DESCRIPTION:Naked Southampton Swim at the Oaklands Community Pool in Sou
	thampton. The cost is £8 on the door or you can buy your ticket online.T
	he event is open to all\, but please remember to bring photo ID\, such as 
	a driving licence\, or a BN membership card.The pools website is http:/
	/www.oaklandspool.org.uk/Tickets are available to purchase https://buytick
	ets.at/nakedticketstore/1901700
DTSTART:20251115T173000Z
DTEND:20251115T190000Z
END:VEVENT
END:VCALENDAR
