BEGIN:VCALENDAR
VERSION:2.0
PRODID:-//InvisionCommunity Events 5.0.18//EN
METHOD:PUBLISH
CALSCALE:GREGORIAN
REFRESH-INTERVAL:PT15M
X-PUBLISHED-TTL:PT15M
X-WR-CALNAME:South West
NAME:South West
BEGIN:VTIMEZONE
TZID:Europe/London
TZURL:https://tzurl.org/zoneinfo/Europe/London
X-LIC-LOCATION:Europe/London
BEGIN:DAYLIGHT
TZOFFSETFROM:+0000
TZOFFSETTO:+0100
TZNAME:BST
DTSTART:20250330T020000Z
RRULE:FREQ=YEARLY;BYMONTH=3;BYDAY=-1SU
END:DAYLIGHT
BEGIN:STANDARD
TZOFFSETFROM:+0100
TZOFFSETTO:+0000
TZNAME:GMT
DTSTART:20251026T020000Z
RRULE:FREQ=YEARLY;BYMONTH=10;BYDAY=-1SU
END:STANDARD
END:VTIMEZONE
BEGIN:VEVENT
SUMMARY:South Wales Meet & Greet
DTSTAMP:20251008T150926Z
SEQUENCE:0
UID:9806-4-0712e666d78c35a5e0181a336d457050@bn.org.uk
ORGANIZER;CN="Sunshinekid":notifications@bn.org.uk
DESCRIPTION:                                                            
	         MEET &amp\; GREETat the White Hart InnClothed at 5pmLlantwit Majo
	rMeet for a chat and a pint or even a mealAbout naturist events .Seniors S
	unday Lunch available £10.95.Choice: Beef\, Pork\,Chicken Supreme\, Nut R
	oast\, QuornPlease Contact Myself with order. by 6pm Friday 14th November 
	2025
DTSTART:20251116T170000Z
DTEND:20251116T183000Z
END:VEVENT
END:VCALENDAR
