BEGIN:VCALENDAR
VERSION:2.0
PRODID:-//InvisionCommunity Events 5.0.18//EN
METHOD:PUBLISH
CALSCALE:GREGORIAN
REFRESH-INTERVAL:PT15M
X-PUBLISHED-TTL:PT15M
X-WR-CALNAME:North West
NAME:North West
BEGIN:VTIMEZONE
TZID:Europe/London
TZURL:https://tzurl.org/zoneinfo/Europe/London
X-LIC-LOCATION:Europe/London
BEGIN:DAYLIGHT
TZOFFSETFROM:+0000
TZOFFSETTO:+0100
TZNAME:BST
DTSTART:20250330T020000Z
RRULE:FREQ=YEARLY;BYMONTH=3;BYDAY=-1SU
END:DAYLIGHT
BEGIN:STANDARD
TZOFFSETFROM:+0100
TZOFFSETTO:+0000
TZNAME:GMT
DTSTART:20251026T020000Z
RRULE:FREQ=YEARLY;BYMONTH=10;BYDAY=-1SU
END:STANDARD
END:VTIMEZONE
BEGIN:VEVENT
SUMMARY:Thanksgiving at Liverpool Sun & Air
DTSTAMP:20251008T095309Z
SEQUENCE:0
UID:9804-5-0712e666d78c35a5e0181a336d457050@bn.org.uk
ORGANIZER;CN="Grandma Jane":notifications@bn.org.uk
DESCRIPTION:Thanksgiving style meal and get together .MenuGuests will ha
	ve a choice of starters to begin their meal.The options include aWarming P
	umpkin Soupor a Fresh Salad featuring Goat’s Cheese\,Sweet Beetroot and 
	Rocket.oOoOoOoOoFor the main course\, attendees can select betweenTraditio
	nal Roast Turkey ora Roast Quorn Crown as a vegetarian alternative.Both di
	shes will be accompanied by Mashed Potatoes\, Stuffing\, Seasonal Vegetabl
	es and a Rich Gravy.oOoOoOoOoTo finish\, dessert options will be available
	. Guests may choose between aClassic Pecan Pieor a Zesty Key Lime Pie.Book
	 Online – lsas.org.uk£15.00 per personClosing date for bookings 25th No
	vemberAll events are open to both members and non-membersAny booking cance
	lled after the closing date are non-refundableTo book contact the Visitor 
	team on 07947 48 07 07 or info@lsas.org.uk.
DTSTART;VALUE=DATE:20251129
END:VEVENT
END:VCALENDAR
