BEGIN:VCALENDAR
VERSION:2.0
PRODID:-//InvisionCommunity Events 5.0.18//EN
METHOD:PUBLISH
CALSCALE:GREGORIAN
REFRESH-INTERVAL:PT15M
X-PUBLISHED-TTL:PT15M
X-WR-CALNAME:London and South East (LASER)
NAME:London and South East (LASER)
BEGIN:VTIMEZONE
TZID:Europe/London
TZURL:https://tzurl.org/zoneinfo/Europe/London
X-LIC-LOCATION:Europe/London
BEGIN:DAYLIGHT
TZOFFSETFROM:+0000
TZOFFSETTO:+0100
TZNAME:BST
DTSTART:20250330T020000Z
RRULE:FREQ=YEARLY;BYMONTH=3;BYDAY=-1SU
END:DAYLIGHT
BEGIN:STANDARD
TZOFFSETFROM:+0100
TZOFFSETTO:+0000
TZNAME:GMT
DTSTART:20251026T020000Z
RRULE:FREQ=YEARLY;BYMONTH=10;BYDAY=-1SU
END:STANDARD
END:VTIMEZONE
BEGIN:VEVENT
SUMMARY:Clothing Optional Life Drawing Evening- Shoreham-by-Sea\, We
	st Sussex
DTSTAMP:20251002T084900Z
SEQUENCE:0
UID:9799-7-0712e666d78c35a5e0181a336d457050@bn.org.uk
ORGANIZER;CN="Caroline94":notifications@bn.org.uk
DESCRIPTION:Have you ever done life drawing? Have you ever done it nude?
	! We’re binging together the worlds of naturism and life drawing into a 
	single event. It doesn’t matter whether you’ve not done either before\
	, there’s a first time for everything. This will be an informal and rela
	xed opportunity to do both\, adequately lubricated and fuelled from the ba
	r\, and you will be free to be as naked as you are comfortable being. We w
	ill have an experienced female life model posing for us.Please note that f
	ood and drink will be available to purchase from the bar from 7:30pm.Shore
	ham-by-Sea\, West SussexClick the below link for tickets:https://buyticket
	s.at/nakedticketstore/1884835
DTSTART:20251117T193000Z
DTEND:20251117T230000Z
END:VEVENT
END:VCALENDAR
