BEGIN:VCALENDAR
VERSION:2.0
PRODID:-//InvisionCommunity Events 5.0.18//EN
METHOD:PUBLISH
CALSCALE:GREGORIAN
REFRESH-INTERVAL:PT15M
X-PUBLISHED-TTL:PT15M
X-WR-CALNAME:Northern Ireland
NAME:Northern Ireland
BEGIN:VTIMEZONE
TZID:Europe/London
TZURL:https://tzurl.org/zoneinfo/Europe/London
X-LIC-LOCATION:Europe/London
BEGIN:DAYLIGHT
TZOFFSETFROM:+0000
TZOFFSETTO:+0100
TZNAME:BST
DTSTART:20250330T020000Z
RRULE:FREQ=YEARLY;BYMONTH=3;BYDAY=-1SU
END:DAYLIGHT
BEGIN:STANDARD
TZOFFSETFROM:+0100
TZOFFSETTO:+0000
TZNAME:GMT
DTSTART:20251026T020000Z
RRULE:FREQ=YEARLY;BYMONTH=10;BYDAY=-1SU
END:STANDARD
END:VTIMEZONE
BEGIN:VEVENT
SUMMARY:Christmas weekend.
DTSTAMP:20250930T193643Z
SEQUENCE:0
UID:9797-29-0712e666d78c35a5e0181a336d457050@bn.org.uk
ORGANIZER;CN="BennyM":notifications@bn.org.uk
DESCRIPTION:Calling all naturists west of the Bann\, Northern Ireland pl
	us the border counties and beyond get into the Christmas spirit with the E
	merald Isle Skinny Dipping Group! We're hosting a Christmas party staycati
	on from December 5th-7th in County Fermanagh. (Further details shared with
	 deposit-paid attendees.) Our accommodation is fully equipped with unique 
	features: sauna\, hot tubs\, entertainment lounge\, sound system for music
	\, BYO bar\, fire pit\, warm lighting\, and more! Join us for a Christmas 
	dinner and celebration on Friday night with music and Saturday will be mor
	e a chilled vibe. PM for info &amp\; secure your space at our first weeken
	d group naturist event!
DTSTART;VALUE=DATE:20251205
DTEND;VALUE=DATE:20251208
END:VEVENT
END:VCALENDAR
