BEGIN:VCALENDAR
VERSION:2.0
PRODID:-//InvisionCommunity Events 5.0.18//EN
METHOD:PUBLISH
CALSCALE:GREGORIAN
REFRESH-INTERVAL:PT15M
X-PUBLISHED-TTL:PT15M
X-WR-CALNAME:North West
NAME:North West
BEGIN:VTIMEZONE
TZID:Europe/London
TZURL:https://tzurl.org/zoneinfo/Europe/London
X-LIC-LOCATION:Europe/London
BEGIN:DAYLIGHT
TZOFFSETFROM:+0000
TZOFFSETTO:+0100
TZNAME:BST
DTSTART:20260329T020000Z
RRULE:FREQ=YEARLY;BYMONTH=3;BYDAY=-1SU
END:DAYLIGHT
BEGIN:STANDARD
TZOFFSETFROM:+0100
TZOFFSETTO:+0000
TZNAME:GMT
DTSTART:20261025T020000Z
RRULE:FREQ=YEARLY;BYMONTH=10;BYDAY=-1SU
END:STANDARD
END:VTIMEZONE
BEGIN:VEVENT
SUMMARY:Wigton GBSD
DTSTAMP:20250915T190636Z
SEQUENCE:0
UID:9776-5-0712e666d78c35a5e0181a336d457050@bn.org.uk
ORGANIZER;CN="Ron.O":notifications@bn.org.uk
DESCRIPTION:A Monthly Skinny Dip at the Wigton Pool Cumbria.PLEASE NOTE:
	 NEW TIME SLOT - 13.30 -15.00.Please note: Bookings for this swim are advi
	sed because of capacity limitations.Phone Wigton Pool to book: 01697 3424
	12Follow this event on NW News online.Always the second Saturday of the Mo
	nth.Come and join us for a Naturist Swim at Cumbria's only all year round 
	Naturist Swimming facility.Please bring photo I.D. and proof of address fo
	r your first visit.All genuine Naturists are welcome!
DTSTART:20260110T133000Z
END:VEVENT
END:VCALENDAR
