BEGIN:VCALENDAR
VERSION:2.0
PRODID:-//InvisionCommunity Events 5.0.18//EN
METHOD:PUBLISH
CALSCALE:GREGORIAN
REFRESH-INTERVAL:PT15M
X-PUBLISHED-TTL:PT15M
X-WR-CALNAME:London and South East (LASER)
NAME:London and South East (LASER)
BEGIN:VTIMEZONE
TZID:Europe/London
TZURL:https://tzurl.org/zoneinfo/Europe/London
X-LIC-LOCATION:Europe/London
BEGIN:DAYLIGHT
TZOFFSETFROM:+0000
TZOFFSETTO:+0100
TZNAME:BST
DTSTART:20250330T020000Z
RRULE:FREQ=YEARLY;BYMONTH=3;BYDAY=-1SU
END:DAYLIGHT
BEGIN:STANDARD
TZOFFSETFROM:+0100
TZOFFSETTO:+0000
TZNAME:GMT
DTSTART:20251026T020000Z
RRULE:FREQ=YEARLY;BYMONTH=10;BYDAY=-1SU
END:STANDARD
END:VTIMEZONE
BEGIN:VEVENT
SUMMARY:Naked Pottery at the Village Pottery and Craft Centre
DTSTAMP:20250910T170813Z
SEQUENCE:0
UID:9769-7-0712e666d78c35a5e0181a336d457050@bn.org.uk
ORGANIZER;CN="AndynPatti":notifications@bn.org.uk
DESCRIPTION:After our successful first visit to the Village Pottery and 
	Craft Centre in Shepperton S.W London we have organised another session...
	 different skills will be taught. Julie's response when I asked her about 
	a repeat visit was\, 'Fantastic news\, I'd absolutely love to host you aga
	in.' It will be a two and a half hour session with coffee\, tea\, cake and
	 biscuits.Julie is a great teacher and was really patient with a talentles
	s chap like me!! So don't worry it's all done in simple stages and you don
	't have to panic over using a potter's wheel!! Last time we were all able 
	to have our pots fired to keep. Mine is currently on display in the Britis
	h Museum (out the back in a skip!)The studio is in Shepperton and the near
	est station is a mile away at Upper Halliford. You can get trains from Vic
	toria (50 minutes) that have several stops en route.TICKETS ON SALE HERE T
	ICKETS LINK
DTSTART:20251206T110000Z
DTEND:20251206T133000Z
END:VEVENT
END:VCALENDAR
