BEGIN:VCALENDAR
VERSION:2.0
PRODID:-//InvisionCommunity Events 5.0.18//EN
METHOD:PUBLISH
CALSCALE:GREGORIAN
REFRESH-INTERVAL:PT15M
X-PUBLISHED-TTL:PT15M
X-WR-CALNAME:Yorkshire and East Midlands
NAME:Yorkshire and East Midlands
BEGIN:VTIMEZONE
TZID:Europe/London
TZURL:https://tzurl.org/zoneinfo/Europe/London
X-LIC-LOCATION:Europe/London
BEGIN:DAYLIGHT
TZOFFSETFROM:+0000
TZOFFSETTO:+0100
TZNAME:BST
DTSTART:20250330T020000Z
RRULE:FREQ=YEARLY;BYMONTH=3;BYDAY=-1SU
END:DAYLIGHT
BEGIN:STANDARD
TZOFFSETFROM:+0100
TZOFFSETTO:+0000
TZNAME:GMT
DTSTART:20251026T020000Z
RRULE:FREQ=YEARLY;BYMONTH=10;BYDAY=-1SU
END:STANDARD
END:VTIMEZONE
BEGIN:VEVENT
SUMMARY:Desford Swim
DTSTAMP:20250826T125647Z
SEQUENCE:0
UID:9743-6-0712e666d78c35a5e0181a336d457050@bn.org.uk
ORGANIZER;CN="Desford_Liaison2":notifications@bn.org.uk
DESCRIPTION:Desford swim is located 7 miles west of Leicester and held e
	very Sunday from 3:30 till 5:00 during college term time.We are a friendly
	 relaxed  naturist club. There is a 25 m pool and facilities to play badmi
	nton and table tennis.We welcome new members if interested please emailInf
	o@desfordswim.co.uk
DTSTART:20250907T143000Z
RRULE:FREQ=DAILY;INTERVAL=7;UNTIL=20251214T000000
END:VEVENT
END:VCALENDAR
