BEGIN:VCALENDAR
VERSION:2.0
PRODID:-//InvisionCommunity Events 5.0.18//EN
METHOD:PUBLISH
CALSCALE:GREGORIAN
REFRESH-INTERVAL:PT15M
X-PUBLISHED-TTL:PT15M
X-WR-CALNAME:London and South East (LASER)
NAME:London and South East (LASER)
BEGIN:VTIMEZONE
TZID:Europe/London
TZURL:https://tzurl.org/zoneinfo/Europe/London
X-LIC-LOCATION:Europe/London
BEGIN:DAYLIGHT
TZOFFSETFROM:+0000
TZOFFSETTO:+0100
TZNAME:BST
DTSTART:20250330T020000Z
RRULE:FREQ=YEARLY;BYMONTH=3;BYDAY=-1SU
END:DAYLIGHT
BEGIN:STANDARD
TZOFFSETFROM:+0100
TZOFFSETTO:+0000
TZNAME:GMT
DTSTART:20251026T020000Z
RRULE:FREQ=YEARLY;BYMONTH=10;BYDAY=-1SU
END:STANDARD
END:VTIMEZONE
BEGIN:VEVENT
SUMMARY:Oakwood Naturist Club (Essex) - August Open Day
DTSTAMP:20250815T152420Z
SEQUENCE:0
UID:9738-7-0712e666d78c35a5e0181a336d457050@bn.org.uk
ORGANIZER;CN="Orm69":notifications@bn.org.uk
DESCRIPTION:Due to the huge popularity of the start of season open day\,
	 OakWood Sun Club are throwing open the doors and welcoming in guests to e
	njoy their beautiful grounds just off the M25 in Essex.They have a refresh
	ing pool. Petanque courts\, acres of woodland and a clubhouse with kitchen
	 and pool table. With on-site toilets and parking\, the site is very conve
	nient if you live in this general area.There will be afternoon tea for £5
	.00 per head.Come along and bring a friend\, tea served from 3pm! Doors op
	en 11am.Visitors: £15.00\, with the fee being taken off the joining fee o
	n joining.More information here:https://oakwoodsunclub.com/24th-august-aft
	ernoon-tea-party/
DTSTART:20250824T100000Z
END:VEVENT
END:VCALENDAR
