BEGIN:VCALENDAR
VERSION:2.0
PRODID:-//InvisionCommunity Events 5.0.18//EN
METHOD:PUBLISH
CALSCALE:GREGORIAN
REFRESH-INTERVAL:PT15M
X-PUBLISHED-TTL:PT15M
X-WR-CALNAME:North West
NAME:North West
BEGIN:VTIMEZONE
TZID:Europe/London
TZURL:https://tzurl.org/zoneinfo/Europe/London
X-LIC-LOCATION:Europe/London
BEGIN:DAYLIGHT
TZOFFSETFROM:+0000
TZOFFSETTO:+0100
TZNAME:BST
DTSTART:20250330T020000Z
RRULE:FREQ=YEARLY;BYMONTH=3;BYDAY=-1SU
END:DAYLIGHT
BEGIN:STANDARD
TZOFFSETFROM:+0100
TZOFFSETTO:+0000
TZNAME:GMT
DTSTART:20251026T020000Z
RRULE:FREQ=YEARLY;BYMONTH=10;BYDAY=-1SU
END:STANDARD
END:VTIMEZONE
BEGIN:VEVENT
SUMMARY:Silecroft Coast Walk
DTSTAMP:20250802T123023Z
SEQUENCE:0
UID:9724-5-0712e666d78c35a5e0181a336d457050@bn.org.uk
ORGANIZER;CN="David2017":notifications@bn.org.uk
DESCRIPTION:Silecroft Coast Naked Walk.We are planning a clothing-option
	al walk along the coast at Silecroft in Cumbria.BN member @toepicker (Mark
	) will lead it as an unofficial group walk.Meeting at the Silecroft car pa
	rk 10:45am for registration - leaving at 11am.Postcode LA18 4NYThe walk is
	 approx. 8 miles/13km\, up to 4 hours including a stop for lunch.There isn
	't much uphill walking\, but the coastal path can have long grass which is
	 hard work and there are some small hills along the route. At least there'
	s no bracken! If the tide has receded\, we can walk back along the sand. T
	he walk can be done naked once away from the carpark\, but we may meet oth
	er walkers on the path/beach. It can be very windy on the coast! The walk 
	will be cancelled if the weather forecast is bad.Please register in advanc
	e.Email: david.butterfield@bn.org.uk
DTSTART:20250821T094500Z
END:VEVENT
END:VCALENDAR
