BEGIN:VCALENDAR
VERSION:2.0
PRODID:-//InvisionCommunity Events 5.0.18//EN
METHOD:PUBLISH
CALSCALE:GREGORIAN
REFRESH-INTERVAL:PT15M
X-PUBLISHED-TTL:PT15M
X-WR-CALNAME:North West
NAME:North West
BEGIN:VTIMEZONE
TZID:Europe/London
TZURL:https://tzurl.org/zoneinfo/Europe/London
X-LIC-LOCATION:Europe/London
BEGIN:DAYLIGHT
TZOFFSETFROM:+0000
TZOFFSETTO:+0100
TZNAME:BST
DTSTART:20250330T020000Z
RRULE:FREQ=YEARLY;BYMONTH=3;BYDAY=-1SU
END:DAYLIGHT
BEGIN:STANDARD
TZOFFSETFROM:+0100
TZOFFSETTO:+0000
TZNAME:GMT
DTSTART:20251026T020000Z
RRULE:FREQ=YEARLY;BYMONTH=10;BYDAY=-1SU
END:STANDARD
END:VTIMEZONE
BEGIN:VEVENT
SUMMARY:St Annes Beach
DTSTAMP:20250731T215854Z
SEQUENCE:0
UID:9722-5-0712e666d78c35a5e0181a336d457050@bn.org.uk
ORGANIZER;CN="George.Booth":notifications@bn.org.uk
DESCRIPTION:Join us on the fabulous St Annes beach just south of Blackpo
	ol. All beach days are subject to weather.Directions for Beach Day\, from
	 11am. To find the location\, from the end of the M55\, follow the signs 
	for the airport. Pass the airport and when you get to the end of the road 
	turn left. (Clifton Dr North). After about half a mile\, you'll see a larg
	e red brick building on your right. (New Thursby Care Home). Continue sout
	h through the traffic lights and turn right into the North Beach Car Park\
	, FY8 2TR behind the Coastguard Station. The What3Words location for the c
	ar park is\, blows.preoccupied.lives  From there you walk out to the bea
	ch and turn right. At the front of the dunes is a line of wooden posts. Ev
	ery so far\, numbered bins are attached to the posts. We meet just past nu
	mber 5. (Blackpool side). Alternatively\, if you use the What3Words App\, 
	look for woes.model.names This will take you to the right spot.Don't for
	get your picnic\, a windbreak if you have one\, and of course your sun blo
	ck. The sun is pretty fierce on the Fylde Coast Riviera.Don't forget our s
	wim at Poulton-le-Fylde takes place in the evening if you'd like to come a
	long. No need to book\, just turn up. If you've not been before\, please b
	ring some form of I.D. for your first visit. (BN cards welcome). Details
	 here: George
DTSTART:20250802T100000Z
DTEND:20250802T150000Z
END:VEVENT
END:VCALENDAR
