BEGIN:VCALENDAR
VERSION:2.0
PRODID:-//InvisionCommunity Events 5.0.18//EN
METHOD:PUBLISH
CALSCALE:GREGORIAN
REFRESH-INTERVAL:PT15M
X-PUBLISHED-TTL:PT15M
X-WR-CALNAME:Eastern
NAME:Eastern
BEGIN:VTIMEZONE
TZID:Europe/London
TZURL:https://tzurl.org/zoneinfo/Europe/London
X-LIC-LOCATION:Europe/London
BEGIN:DAYLIGHT
TZOFFSETFROM:+0000
TZOFFSETTO:+0100
TZNAME:BST
DTSTART:20250330T020000Z
RRULE:FREQ=YEARLY;BYMONTH=3;BYDAY=-1SU
END:DAYLIGHT
BEGIN:STANDARD
TZOFFSETFROM:+0100
TZOFFSETTO:+0000
TZNAME:GMT
DTSTART:20251026T020000Z
RRULE:FREQ=YEARLY;BYMONTH=10;BYDAY=-1SU
END:STANDARD
END:VTIMEZONE
BEGIN:VEVENT
SUMMARY:Colchester WNBR
DTSTAMP:20250724T083136Z
SEQUENCE:0
UID:9711-8-0712e666d78c35a5e0181a336d457050@bn.org.uk
ORGANIZER;CN="DavidSmith":notifications@bn.org.uk
DESCRIPTION:Time: Assemble 1pm\, Ride departs 2pm\nLocation: Under Jum
	bo The Water Tower CO3 3AAColchester - World Naked Bike Ride (WNBR) - Wiki
	 information siteAs this is NOT a BN organised event it is not covered by 
	BN's insurance and so participants should make their own assessment of the
	 event's insurance. cover.
DTSTART:20250809T120000Z
END:VEVENT
END:VCALENDAR
