BEGIN:VCALENDAR
VERSION:2.0
PRODID:-//InvisionCommunity Events 5.0.18//EN
METHOD:PUBLISH
CALSCALE:GREGORIAN
REFRESH-INTERVAL:PT15M
X-PUBLISHED-TTL:PT15M
X-WR-CALNAME:South West
NAME:South West
BEGIN:VTIMEZONE
TZID:Europe/London
TZURL:https://tzurl.org/zoneinfo/Europe/London
X-LIC-LOCATION:Europe/London
BEGIN:DAYLIGHT
TZOFFSETFROM:+0000
TZOFFSETTO:+0100
TZNAME:BST
DTSTART:20250330T020000Z
RRULE:FREQ=YEARLY;BYMONTH=3;BYDAY=-1SU
END:DAYLIGHT
BEGIN:STANDARD
TZOFFSETFROM:+0100
TZOFFSETTO:+0000
TZNAME:GMT
DTSTART:20251026T020000Z
RRULE:FREQ=YEARLY;BYMONTH=10;BYDAY=-1SU
END:STANDARD
END:VTIMEZONE
BEGIN:VEVENT
SUMMARY:Kenfig Burrows Meetup Wales (Sker Beach)
DTSTAMP:20250718T071041Z
SEQUENCE:0
UID:9701-4-0712e666d78c35a5e0181a336d457050@bn.org.uk
ORGANIZER;CN="Rhysj1411":notifications@bn.org.uk
DESCRIPTION:REARRANGED FROM 19TH JULYWere all to meet up at kenfig natur
	e reserve car park at 10am and then walk down together\, Doing some resear
	ch and I have found the following instructions to get thereBy car:\nLeave 
	the M4 motorway at junction 37 (Pyle) or junction 38 (Margam). Follow the 
	signs for Cynffig Nature Reserve where there is ample parking. From the na
	ture reserve make your way on foot down to the beach ( the sea is visible 
	from the car park) but it is a walk of 1.5 miles through the sand hills.Up
	on reaching the track that divides the beach from the sand hills\, turn ri
	ght and walk for about ten minutes toward the steel works in Port Talbot -
	 this is to ensure that you reach the quietest part of the beach - (if you
	 reach the river you have gone too far). This is reputedly known as 'Morfa
	'\, while the beach to the left of the access is called 'Sker'. Further so
	uth-eastward toward Porthcawl lie Pink Bay\, Rest Bay and then Porthcawl/T
	recco. Choosing a spot just below the dunes will mean you can avoid the in
	-coming tide and any horse riders\, fishermen or joggers who use the beach
	.As its a fair walk to the beach please bring proper foot ware to avoid an
	y injuriesThere are no facilities there so you may also want to take sandw
	iches or something like that if you get hungryParking tariff is below\;PAR
	KING TARIFF£1 - 90 MINUTES£2 - 3 HOURS£4 - ALL DAY£6 FOR HORSE BOXES£
	80 BETWEEN 10PM - 6PMPlease use one of our 3 parking meters dotted around 
	the reserve or use scan the QR code on EXITAlternatively\, you can pay wit
	h a member of staff during office hours (9am-4pm)If anyone has any more in
	formation or has been there before even better at least we wont get lost :
	)Please RSVP so we know how many will be coming as we will only wait 15 mi
	nutes after 10 until we start walking downPlease note this is weather prov
	iding so if the weather is not great then we will have to re-arrange anoth
	er day
DTSTART:20250816T090000Z
ATTENDEE;CN="Rhysj1411";CUTYPE=INDIVIDUAL;PARTSTAT=ACCEPTED:
	notifications@bn.org.uk
ATTENDEE;CN="jackinthenude";CUTYPE=INDIVIDUAL;PARTSTAT=ACCEP
	TED:notifications@bn.org.uk
ATTENDEE;CN="CHER";CUTYPE=INDIVIDUAL;PARTSTAT=ACCEPTED:notif
	ications@bn.org.uk
ATTENDEE;CN="stewart_w";CUTYPE=INDIVIDUAL;PARTSTAT=ACCEPTED:
	notifications@bn.org.uk
END:VEVENT
END:VCALENDAR
