BEGIN:VCALENDAR
VERSION:2.0
PRODID:-//InvisionCommunity Events 5.0.18//EN
METHOD:PUBLISH
CALSCALE:GREGORIAN
REFRESH-INTERVAL:PT15M
X-PUBLISHED-TTL:PT15M
X-WR-CALNAME:North West
NAME:North West
BEGIN:VTIMEZONE
TZID:Europe/London
TZURL:https://tzurl.org/zoneinfo/Europe/London
X-LIC-LOCATION:Europe/London
BEGIN:DAYLIGHT
TZOFFSETFROM:+0000
TZOFFSETTO:+0100
TZNAME:BST
DTSTART:20250330T020000Z
RRULE:FREQ=YEARLY;BYMONTH=3;BYDAY=-1SU
END:DAYLIGHT
BEGIN:STANDARD
TZOFFSETFROM:+0100
TZOFFSETTO:+0000
TZNAME:GMT
DTSTART:20251026T020000Z
RRULE:FREQ=YEARLY;BYMONTH=10;BYDAY=-1SU
END:STANDARD
END:VTIMEZONE
BEGIN:VEVENT
SUMMARY:CANCELLED! Pre Shap Lido Naked Walk (Howgills)
DTSTAMP:20250709T154940Z
SEQUENCE:0
UID:9679-5-0712e666d78c35a5e0181a336d457050@bn.org.uk
ORGANIZER;CN="David2017":notifications@bn.org.uk
DESCRIPTION:Pre Shap Lido Naked walk.CANCELLED DUE TO WEATHER!We will tr
	y to do it on 2nd September.NOTE: EARLIER START TIME!We plan to do a cloth
	ing-optional walk near to Shap\, before the Lido event. We will be doing 
	a new route in The Howgills: Randygill Top and Green Bell from near Weasda
	le Farm\, Ravenstonedale.The walk will be about 10 km / 6.6 miles with 490
	 m / 1607 ft of ascent.We will meet at 12:45 and aim to start walking at 1
	pm\, and be finished in time to get to the Lido for 6pm.For more details o
	r to confirm your attendance\, mailto: david.butterfield@bn.org.uk
DTSTART:20250805T114500Z
END:VEVENT
END:VCALENDAR
