BEGIN:VCALENDAR
VERSION:2.0
PRODID:-//InvisionCommunity Events 5.0.18//EN
METHOD:PUBLISH
CALSCALE:GREGORIAN
REFRESH-INTERVAL:PT15M
X-PUBLISHED-TTL:PT15M
X-WR-CALNAME:North West
NAME:North West
BEGIN:VTIMEZONE
TZID:Europe/London
TZURL:https://tzurl.org/zoneinfo/Europe/London
X-LIC-LOCATION:Europe/London
BEGIN:DAYLIGHT
TZOFFSETFROM:+0000
TZOFFSETTO:+0100
TZNAME:BST
DTSTART:20250330T020000Z
RRULE:FREQ=YEARLY;BYMONTH=3;BYDAY=-1SU
END:DAYLIGHT
BEGIN:STANDARD
TZOFFSETFROM:+0100
TZOFFSETTO:+0000
TZNAME:GMT
DTSTART:20251026T020000Z
RRULE:FREQ=YEARLY;BYMONTH=10;BYDAY=-1SU
END:STANDARD
END:VTIMEZONE
BEGIN:VEVENT
SUMMARY:ROCKY HORROR SHOW @ LIVERPOOL SUN & AIR
DTSTAMP:20250709T093649Z
SEQUENCE:0
UID:9678-5-0712e666d78c35a5e0181a336d457050@bn.org.uk
ORGANIZER;CN="Grandma Jane":notifications@bn.org.uk
DESCRIPTION:                                                            
	                                                        Rocky Horror Show 
	– Dress to impressRocky Horror comes to ‘Liverpool Sun &amp\; Air So
	ciety’Saturday 23rd August 2025 7pmWith Live EntertainmentMenuStarterMin
	estrone MilaneseorInsalata di Pomodoro al Basilico Mozzarella (Tomato\, Ba
	sil and Mozzarella)Main CoursesCarbonara al a Pollo (Chicken)orTraditional
	 LasagneorRisotto Bianco ala Vegetale. (Risotto Rice and Vegetables cooked
	 in White Wine)DessertsTiramisuorZuppa Inglese (Italian Trifle)Remember to
	 place your menu choice at checkoutPayment must be made within 48hrs of bo
	oking to confirm.Closing date for bookings is Wednesday 20th August.All ev
	ents are open to members and non-membersBookings can be made on the websit
	e  calendar Rocky Horror Show – Dress to impress – Liverpool Sun &amp\
	; Air
DTSTART;VALUE=DATE:20250823
END:VEVENT
END:VCALENDAR
