BEGIN:VCALENDAR
VERSION:2.0
PRODID:-//InvisionCommunity Events 5.0.18//EN
METHOD:PUBLISH
CALSCALE:GREGORIAN
REFRESH-INTERVAL:PT15M
X-PUBLISHED-TTL:PT15M
X-WR-CALNAME:London and South East (LASER)
NAME:London and South East (LASER)
BEGIN:VTIMEZONE
TZID:Europe/London
TZURL:https://tzurl.org/zoneinfo/Europe/London
X-LIC-LOCATION:Europe/London
BEGIN:DAYLIGHT
TZOFFSETFROM:+0000
TZOFFSETTO:+0100
TZNAME:BST
DTSTART:20250330T020000Z
RRULE:FREQ=YEARLY;BYMONTH=3;BYDAY=-1SU
END:DAYLIGHT
BEGIN:STANDARD
TZOFFSETFROM:+0100
TZOFFSETTO:+0000
TZNAME:GMT
DTSTART:20251026T020000Z
RRULE:FREQ=YEARLY;BYMONTH=10;BYDAY=-1SU
END:STANDARD
END:VTIMEZONE
BEGIN:VEVENT
SUMMARY:Oakwood Sunclub Open Day - 13th July
DTSTAMP:20250707T182539Z
SEQUENCE:0
UID:9676-7-0712e666d78c35a5e0181a336d457050@bn.org.uk
ORGANIZER;CN="Orm69":notifications@bn.org.uk
DESCRIPTION:Free Entry for the day - Oakwood Sunclub (Naturist Club) - E
	ssex - July 13thDiscover what makes Oakwood Sun Club such a special place.
	 Set in 5 acres of beautiful natural surroundings just off the M25 in Esse
	x\, this hidden little club is the perfect spot to relax\, connect\, and u
	nwind in a clothes-free environment.\n\nJoin us for a friendly Open Day wi
	th a BBQ from 1pm\, tea and cake\, pétanque\, indoor games\, and a dip in
	 our outdoor pool. Whether you're a regular or visiting for the first time
	\, you'll always find a warm\, welcoming atmosphere and plenty of space to
	 be yourself.MORE INFORMATION ON THE WEBSITE:https://oakwoodsunclub.com/13
	th-july-open-day-and-bbq/\nWe are a hidden away club\, so please follow th
	e instructions on the website and don't rely on the SatNav
DTSTART;VALUE=DATE:20250713
END:VEVENT
END:VCALENDAR
