BEGIN:VCALENDAR
VERSION:2.0
PRODID:-//InvisionCommunity Events 5.0.18//EN
METHOD:PUBLISH
CALSCALE:GREGORIAN
REFRESH-INTERVAL:PT15M
X-PUBLISHED-TTL:PT15M
X-WR-CALNAME:South West
NAME:South West
BEGIN:VTIMEZONE
TZID:Europe/London
TZURL:https://tzurl.org/zoneinfo/Europe/London
X-LIC-LOCATION:Europe/London
BEGIN:DAYLIGHT
TZOFFSETFROM:+0000
TZOFFSETTO:+0100
TZNAME:BST
DTSTART:20250330T020000Z
RRULE:FREQ=YEARLY;BYMONTH=3;BYDAY=-1SU
END:DAYLIGHT
BEGIN:STANDARD
TZOFFSETFROM:+0100
TZOFFSETTO:+0000
TZNAME:GMT
DTSTART:20251026T020000Z
RRULE:FREQ=YEARLY;BYMONTH=10;BYDAY=-1SU
END:STANDARD
END:VTIMEZONE
BEGIN:VEVENT
SUMMARY:Cardiff WNBR
DTSTAMP:20250626T091318Z
SEQUENCE:0
UID:9665-4-0712e666d78c35a5e0181a336d457050@bn.org.uk
ORGANIZER;CN="DavidSmith":notifications@bn.org.uk
DESCRIPTION:Meeting from 12.30pm. Ride planned to start at 2.30pmWe will
	 be meeting on the grass between the National Museum and University of Car
	diff University Biological Sciences building (Park Place CF10 3BB). Here w
	e will be able to prepare our bikes and bodies for the ride. The area will
	 be cordoned off for our use. PLEASE DO NOT WANDER AROUND NAKED OUTSIDE TH
	E CORDONED AREA. . PLEASE BRING WHISTLES\, BELLS\, HORNS etc.This is NOT a
	 BN event so please make your own assessment of the insurance cover.Cardif
	f - World Naked Bike Ride (WNBR) - Wiki information site
DTSTART:20250727T133000Z
END:VEVENT
END:VCALENDAR
