BEGIN:VCALENDAR
VERSION:2.0
PRODID:-//InvisionCommunity Events 5.0.18//EN
METHOD:PUBLISH
CALSCALE:GREGORIAN
REFRESH-INTERVAL:PT15M
X-PUBLISHED-TTL:PT15M
X-WR-CALNAME:North West
NAME:North West
BEGIN:VTIMEZONE
TZID:Europe/London
TZURL:https://tzurl.org/zoneinfo/Europe/London
X-LIC-LOCATION:Europe/London
BEGIN:DAYLIGHT
TZOFFSETFROM:+0000
TZOFFSETTO:+0100
TZNAME:BST
DTSTART:20250330T020000Z
RRULE:FREQ=YEARLY;BYMONTH=3;BYDAY=-1SU
END:DAYLIGHT
BEGIN:STANDARD
TZOFFSETFROM:+0100
TZOFFSETTO:+0000
TZNAME:GMT
DTSTART:20251026T020000Z
RRULE:FREQ=YEARLY;BYMONTH=10;BYDAY=-1SU
END:STANDARD
END:VTIMEZONE
BEGIN:VEVENT
SUMMARY:Ribble Valley Club Open Weekend
DTSTAMP:20250625T201729Z
SEQUENCE:0
UID:9664-5-0712e666d78c35a5e0181a336d457050@bn.org.uk
ORGANIZER;CN="Bernard Taylor":notifications@bn.org.uk
DESCRIPTION:The Ribble Valley Club invites you to visit our beautiful si
	te\, located just off the A59 near Blackburn\, where you can enjoy all our
	 facilities including the sauna\, hot tub and heated pool.There will be no
	 entry fee for the weekend\, however overnight stays will be charged at ou
	r normal rates.The clubhouse is well equipped with a pool table\, table te
	nnis table and indoor games for wet weather\, together with a kitchen and 
	honesty bar. Outdoors\, we have sunbathing areas\, a miniten court and pet
	anque pitch.For more information and to book your visit\, click here.
DTSTART:20250808T130000Z
DTEND:20250810T140000Z
END:VEVENT
END:VCALENDAR
