BEGIN:VCALENDAR
VERSION:2.0
PRODID:-//InvisionCommunity Events 5.0.18//EN
METHOD:PUBLISH
CALSCALE:GREGORIAN
REFRESH-INTERVAL:PT15M
X-PUBLISHED-TTL:PT15M
X-WR-CALNAME:North West
NAME:North West
BEGIN:VTIMEZONE
TZID:Europe/London
TZURL:https://tzurl.org/zoneinfo/Europe/London
X-LIC-LOCATION:Europe/London
BEGIN:DAYLIGHT
TZOFFSETFROM:+0000
TZOFFSETTO:+0100
TZNAME:BST
DTSTART:20250330T020000Z
RRULE:FREQ=YEARLY;BYMONTH=3;BYDAY=-1SU
END:DAYLIGHT
BEGIN:STANDARD
TZOFFSETFROM:+0100
TZOFFSETTO:+0000
TZNAME:GMT
DTSTART:20251026T020000Z
RRULE:FREQ=YEARLY;BYMONTH=10;BYDAY=-1SU
END:STANDARD
END:VTIMEZONE
BEGIN:VEVENT
SUMMARY:Beacon Tarn Skinny Dip and Walk
DTSTAMP:20250624T114012Z
SEQUENCE:0
UID:9660-5-0712e666d78c35a5e0181a336d457050@bn.org.uk
ORGANIZER;CN="David2017":notifications@bn.org.uk
DESCRIPTION:Beacon Tarn Naked Walk and Skinny Dip.We are again visiting 
	Beacon Tarn for this annual Naked Walk as part of the Great British Skin
	ny Dip.I am not able to lead the event this time but BN member @toepicker 
	(Mark) has agreed to lead it as an unofficial group walk.Meeting at the Br
	own Howe car park on the West side of Coniston at 11.30am for registration
	 - leaving at 12 Noon.Postcode LA12 8DWPlease register in advance.Email: d
	avid.butterfield@bn.org.uk
DTSTART:20250701T103000Z
END:VEVENT
END:VCALENDAR
