BEGIN:VCALENDAR
VERSION:2.0
PRODID:-//InvisionCommunity Events 5.0.18//EN
METHOD:PUBLISH
CALSCALE:GREGORIAN
REFRESH-INTERVAL:PT15M
X-PUBLISHED-TTL:PT15M
X-WR-CALNAME:Eastern
NAME:Eastern
BEGIN:VTIMEZONE
TZID:Europe/London
TZURL:https://tzurl.org/zoneinfo/Europe/London
X-LIC-LOCATION:Europe/London
BEGIN:DAYLIGHT
TZOFFSETFROM:+0000
TZOFFSETTO:+0100
TZNAME:BST
DTSTART:20250330T020000Z
RRULE:FREQ=YEARLY;BYMONTH=3;BYDAY=-1SU
END:DAYLIGHT
BEGIN:STANDARD
TZOFFSETFROM:+0100
TZOFFSETTO:+0000
TZNAME:GMT
DTSTART:20251026T020000Z
RRULE:FREQ=YEARLY;BYMONTH=10;BYDAY=-1SU
END:STANDARD
END:VTIMEZONE
BEGIN:VEVENT
SUMMARY:Cambridge WNBR
DTSTAMP:20250619T091205Z
SEQUENCE:0
UID:9657-8-0712e666d78c35a5e0181a336d457050@bn.org.uk
ORGANIZER;CN="DavidSmith":notifications@bn.org.uk
DESCRIPTION:Time: Assemble 2pm\, Ride departs 3pm     
	             \nLocation: Park Entrance Victoria Ave\, Cambrid
	ge CB5 8DH\, UK Next to the Toilets on Midsummer CommonCambridge - World N
	aked Bike Ride (WNBR) - Wiki information sitePlease note: only those event
	s organised through BN are covered by BN’s insurance.  Participants 
	in other events should make their own enquiries regarding appropriate insu
	rance cover for that event.
DTSTART:20250802T130000Z
END:VEVENT
END:VCALENDAR
