BEGIN:VCALENDAR
VERSION:2.0
PRODID:-//InvisionCommunity Events 5.0.18//EN
METHOD:PUBLISH
CALSCALE:GREGORIAN
REFRESH-INTERVAL:PT15M
X-PUBLISHED-TTL:PT15M
X-WR-CALNAME:London and South East (LASER)
NAME:London and South East (LASER)
BEGIN:VTIMEZONE
TZID:Europe/London
TZURL:https://tzurl.org/zoneinfo/Europe/London
X-LIC-LOCATION:Europe/London
BEGIN:DAYLIGHT
TZOFFSETFROM:+0000
TZOFFSETTO:+0100
TZNAME:BST
DTSTART:20250330T020000Z
RRULE:FREQ=YEARLY;BYMONTH=3;BYDAY=-1SU
END:DAYLIGHT
BEGIN:STANDARD
TZOFFSETFROM:+0100
TZOFFSETTO:+0000
TZNAME:GMT
DTSTART:20251026T020000Z
RRULE:FREQ=YEARLY;BYMONTH=10;BYDAY=-1SU
END:STANDARD
END:VTIMEZONE
BEGIN:VEVENT
SUMMARY:Ladies Only Skinny Dip.
DTSTAMP:20250611T092224Z
SEQUENCE:0
UID:9655-7-0712e666d78c35a5e0181a336d457050@bn.org.uk
ORGANIZER;CN="Ron.O":notifications@bn.org.uk
DESCRIPTION:Ladies Only Skinny Dip in Warlingham 12th July 2 - 5pm.Hoste
	d by: The White House Naturist Club using our private pool on club premise
	s.Location: The White House Club\, 10 Southview Road\, Warlingham\, Surrey
	.Postcode: CR6 9JE.Organiser: The White House Club.Women's skinny dip\, br
	ing a towel. Option of a sauna too.Book in advance by email to info@whiteh
	ouseclub.org.uk\nor by text to 07952 788377 Please bring ID.The Venue is o
	n Google maps\, cars park on our drive\,Nearest train station Whyteleafe S
	outh. Please ring the bell on our gates.Website/Facebook event link: http:
	//www.whitehouseclub.org.ukContact email: info@whitehouseclub.org.ukContac
	t telephone: 07952 788377.Cost: Suggested £5 voluntary donation to Britis
	h Heart Foundation.
DTSTART:20250712T130000Z
DTEND:20250712T160000Z
END:VEVENT
END:VCALENDAR
