BEGIN:VCALENDAR
VERSION:2.0
PRODID:-//InvisionCommunity Events 5.0.18//EN
METHOD:PUBLISH
CALSCALE:GREGORIAN
REFRESH-INTERVAL:PT15M
X-PUBLISHED-TTL:PT15M
X-WR-CALNAME:North West
NAME:North West
BEGIN:VTIMEZONE
TZID:Europe/London
TZURL:https://tzurl.org/zoneinfo/Europe/London
X-LIC-LOCATION:Europe/London
BEGIN:DAYLIGHT
TZOFFSETFROM:+0000
TZOFFSETTO:+0100
TZNAME:BST
DTSTART:20250330T020000Z
RRULE:FREQ=YEARLY;BYMONTH=3;BYDAY=-1SU
END:DAYLIGHT
BEGIN:STANDARD
TZOFFSETFROM:+0100
TZOFFSETTO:+0000
TZNAME:GMT
DTSTART:20251026T020000Z
RRULE:FREQ=YEARLY;BYMONTH=10;BYDAY=-1SU
END:STANDARD
END:VTIMEZONE
BEGIN:VEVENT
SUMMARY:Naturist Outreach Group Annual Dinner at Ribble Valley Club
DTSTAMP:20250529T182454Z
SEQUENCE:0
UID:9631-5-0712e666d78c35a5e0181a336d457050@bn.org.uk
ORGANIZER;CN="Naturistoutreach_Liaison":notifications@bn.org
	.uk
DESCRIPTION:The Naturist Outreach Group (Naturist Outreach Group – Hom
	e Page) is holding its Annual Dinner on the evening of June 21st\, hosted
	 by one of our favourite clubs\, Ribble Valley Club. Carvery dinner\, mask
	ed ball and disco\, all for only £12.00\, a price subsidised by the Outre
	ach Group. \nThe evening will get going at around 6:00 pm but why not arri
	ve early and enjoy the Club’s great facilities? This is an Outreach memb
	er’s only event but of course\, non-members can visit Ribble Valley Club
	 independently by prior arrangement with the them and is a great opportuni
	ty to meet Outreachers in their natural setting! Member or not\, you will 
	need to book online directly with Ribble Valley Club at:Ribble Valley Club
	 | Home\n\n
DTSTART:20250621T170000Z
END:VEVENT
END:VCALENDAR
