BEGIN:VCALENDAR
VERSION:2.0
PRODID:-//InvisionCommunity Events 5.0.18//EN
METHOD:PUBLISH
CALSCALE:GREGORIAN
REFRESH-INTERVAL:PT15M
X-PUBLISHED-TTL:PT15M
X-WR-CALNAME:South West
NAME:South West
BEGIN:VTIMEZONE
TZID:Europe/London
TZURL:https://tzurl.org/zoneinfo/Europe/London
X-LIC-LOCATION:Europe/London
BEGIN:DAYLIGHT
TZOFFSETFROM:+0000
TZOFFSETTO:+0100
TZNAME:BST
DTSTART:20250330T020000Z
RRULE:FREQ=YEARLY;BYMONTH=3;BYDAY=-1SU
END:DAYLIGHT
BEGIN:STANDARD
TZOFFSETFROM:+0100
TZOFFSETTO:+0000
TZNAME:GMT
DTSTART:20251026T020000Z
RRULE:FREQ=YEARLY;BYMONTH=10;BYDAY=-1SU
END:STANDARD
END:VTIMEZONE
BEGIN:VEVENT
SUMMARY:Kenfig Burrows Meetup Wales (Sker Beach)
DTSTAMP:20250529T070637Z
SEQUENCE:0
UID:9629-4-0712e666d78c35a5e0181a336d457050@bn.org.uk
ORGANIZER;CN="Rhysj1411":notifications@bn.org.uk
DESCRIPTION:Were all to meet up at kenfig nature reserve car park at 10a
	m and then walk down together\, Doing some research and I have found the f
	ollowing instructions to get thereBy car:\nLeave the M4 motorway at juncti
	on 37 (Pyle) or junction 38 (Margam). Follow the signs for Cynffig Nature 
	Reserve where there is ample parking. From the nature reserve make your wa
	y on foot down to the beach ( the sea is visible from the car park) but it
	 is a walk of 1.5 miles through the sand hills.Upon reaching the track tha
	t divides the beach from the sand hills\, turn right and walk for about te
	n minutes toward the steel works in Port Talbot - this is to ensure that y
	ou reach the quietest part of the beach - (if you reach the river you have
	 gone too far). This is reputedly known as 'Morfa'\, while the beach to th
	e left of the access is called 'Sker'. Further south-eastward toward Porth
	cawl lie Pink Bay\, Rest Bay and then Porthcawl/Trecco. Choosing a spot ju
	st below the dunes will mean you can avoid the in-coming tide and any hors
	e riders\, fishermen or joggers who use the beach.As its a fair walk to th
	e beach please bring proper foot ware to avoid any injuriesThere are no fa
	cilities there so you may also want to take sandwiches or something like t
	hat if you get hungryParking tariff is below\;PARKING TARIFF£1 - 90 MINUT
	ES£2 - 3 HOURS£4 - ALL DAY£6 FOR HORSE BOXES£80 BETWEEN 10PM - 6PMPlea
	se use one of our 3 parking meters dotted around the reserve or use scan t
	he QR code on EXITAlternatively\, you can pay with a member of staff durin
	g office hours (9am-4pm)If anyone has any more information or has been the
	re before even better at least we wont get lost :)Please RSVP so we know h
	ow many will be coming as we will only wait 15 minutes after 10 until we s
	tart walking downPlease note this is weather providing so if the weather i
	s not great then we will have to re-arrange another day
DTSTART:20250719T090000Z
ATTENDEE;CN="Rhysj1411";CUTYPE=INDIVIDUAL;PARTSTAT=ACCEPTED:
	notifications@bn.org.uk
ATTENDEE;CN="TerwynTollbyrth";CUTYPE=INDIVIDUAL;PARTSTAT=ACC
	EPTED:notifications@bn.org.uk
ATTENDEE;CN="WelshNaturist";CUTYPE=INDIVIDUAL;PARTSTAT=ACCEP
	TED:notifications@bn.org.uk
END:VEVENT
END:VCALENDAR
