BEGIN:VCALENDAR
VERSION:2.0
PRODID:-//InvisionCommunity Events 5.0.18//EN
METHOD:PUBLISH
CALSCALE:GREGORIAN
REFRESH-INTERVAL:PT15M
X-PUBLISHED-TTL:PT15M
X-WR-CALNAME:North West
NAME:North West
BEGIN:VTIMEZONE
TZID:Europe/London
TZURL:https://tzurl.org/zoneinfo/Europe/London
X-LIC-LOCATION:Europe/London
BEGIN:DAYLIGHT
TZOFFSETFROM:+0000
TZOFFSETTO:+0100
TZNAME:BST
DTSTART:20250330T020000Z
RRULE:FREQ=YEARLY;BYMONTH=3;BYDAY=-1SU
END:DAYLIGHT
BEGIN:STANDARD
TZOFFSETFROM:+0100
TZOFFSETTO:+0000
TZNAME:GMT
DTSTART:20251026T020000Z
RRULE:FREQ=YEARLY;BYMONTH=10;BYDAY=-1SU
END:STANDARD
END:VTIMEZONE
BEGIN:VEVENT
SUMMARY:Naturist Outreach Group visit to Ashdene Naturist Club
DTSTAMP:20250527T115532Z
SEQUENCE:0
UID:9623-5-0712e666d78c35a5e0181a336d457050@bn.org.uk
ORGANIZER;CN="Naturistoutreach_Liaison":notifications@bn.org
	.uk
DESCRIPTION:The Naturist Outreach Group (Naturist Outreach Group – Hom
	e Page)  is making one of our regular visits to the Ashdene Naturist Club.
	 Non-Outreach members are welcome to come along to meet us and join the fu
	n either for a day visit or the whole weekend. Among it's excellent facili
	ties\, Ashdene has a large club house with a conservatory and licensed bar
	\, and a spa with a pool\, sauna and jacuzzi. There are 11 hard standings 
	for caravans/motorhomes and 4 grass pitches\, all with electric hook-ups\,
	 3 club caravans to hire and a camping field with electric hook-ups. If yo
	u wish to stay overnight\, EARLY BOOKING IS ADVISED due to the club’s po
	pularity.\n\nYou will need to book online directly with Ashdene at:\n\nHOM
	E | Ashdene Naturists
DTSTART;VALUE=DATE:20250606
DTEND;VALUE=DATE:20250609
END:VEVENT
END:VCALENDAR
