BEGIN:VCALENDAR
VERSION:2.0
PRODID:-//InvisionCommunity Events 5.0.18//EN
METHOD:PUBLISH
CALSCALE:GREGORIAN
REFRESH-INTERVAL:PT15M
X-PUBLISHED-TTL:PT15M
X-WR-CALNAME:Eastern
NAME:Eastern
BEGIN:VTIMEZONE
TZID:Europe/London
TZURL:https://tzurl.org/zoneinfo/Europe/London
X-LIC-LOCATION:Europe/London
BEGIN:DAYLIGHT
TZOFFSETFROM:+0000
TZOFFSETTO:+0100
TZNAME:BST
DTSTART:20250330T020000Z
RRULE:FREQ=YEARLY;BYMONTH=3;BYDAY=-1SU
END:DAYLIGHT
BEGIN:STANDARD
TZOFFSETFROM:+0100
TZOFFSETTO:+0000
TZNAME:GMT
DTSTART:20251026T020000Z
RRULE:FREQ=YEARLY;BYMONTH=10;BYDAY=-1SU
END:STANDARD
END:VTIMEZONE
BEGIN:VEVENT
SUMMARY:MNSC - Swim\, Sauna & Steamroom
DTSTAMP:20250526T161722Z
SEQUENCE:0
UID:9621-8-0712e666d78c35a5e0181a336d457050@bn.org.uk
ORGANIZER;CN="Ross28":notifications@bn.org.uk
DESCRIPTION:A regular swim\, plus sauna and steam room\, at Bury St Edmu
	nds Leisure Centre run by Mid-Anglia Naturist Swimming Club (MNSC).Please 
	contact the club if you would like to attend. BN members\, guests and vi
	sitors are very welcome. Full details at the club websiteBury St Edmunds 
	Sports Centre Refurbishment - November to March 2026 inc. - Please note th
	at the Centre is undergoing a major refurbishment during this period and b
	oth the Sauna &amp\; Steamroom will be unavailable. Therefore during this 
	period all MNSC Swims will be POOL ONLY. 
DTSTART:20251115T163000Z
DTEND:20251115T180000Z
END:VEVENT
END:VCALENDAR
