BEGIN:VCALENDAR
VERSION:2.0
PRODID:-//InvisionCommunity Events 5.0.18//EN
METHOD:PUBLISH
CALSCALE:GREGORIAN
REFRESH-INTERVAL:PT15M
X-PUBLISHED-TTL:PT15M
X-WR-CALNAME:London and South East (LASER)
NAME:London and South East (LASER)
BEGIN:VTIMEZONE
TZID:Europe/London
TZURL:https://tzurl.org/zoneinfo/Europe/London
X-LIC-LOCATION:Europe/London
BEGIN:DAYLIGHT
TZOFFSETFROM:+0000
TZOFFSETTO:+0100
TZNAME:BST
DTSTART:20250330T020000Z
RRULE:FREQ=YEARLY;BYMONTH=3;BYDAY=-1SU
END:DAYLIGHT
BEGIN:STANDARD
TZOFFSETFROM:+0100
TZOFFSETTO:+0000
TZNAME:GMT
DTSTART:20251026T020000Z
RRULE:FREQ=YEARLY;BYMONTH=10;BYDAY=-1SU
END:STANDARD
END:VTIMEZONE
BEGIN:VEVENT
SUMMARY:Invicta Sun Club  GBSD
DTSTAMP:20250525T162335Z
SEQUENCE:0
UID:9619-7-0712e666d78c35a5e0181a336d457050@bn.org.uk
ORGANIZER;CN="Ron.O":notifications@bn.org.uk
DESCRIPTION:Invicta Sun Club Great British Skinny Dip. 16th August 10.00
	 -16.00:This is a Charity Fundraising event.Location: Apple/Google maps IN
	VICTA SUN CLUB - W3W: windmills.strength.feelersPlease ring the number on 
	the road gate in Forge Lane\, Sutton\, Dover. Postcode: CT15 5DGView our w
	ebsite.Come and join us and enjoy Skinny Dipping in our fabulous Pool\, as
	 part of the GBSD campaign.We are a Naturist Club\, with hot showers and t
	oilets. We have a pavilion where we can provide refreshments.Please email:
	 secretary@invictasunclub.co.ukTelephone: 07847614585The £5 admission fee
	 is a donation to the British Heart Foundation.Name of organiser: Invicta 
	Sun ClubParking is available.
DTSTART:20250816T090000Z
DTEND:20250816T150000Z
END:VEVENT
END:VCALENDAR
