BEGIN:VCALENDAR
VERSION:2.0
PRODID:-//InvisionCommunity Events 5.0.18//EN
METHOD:PUBLISH
CALSCALE:GREGORIAN
REFRESH-INTERVAL:PT15M
X-PUBLISHED-TTL:PT15M
X-WR-CALNAME:London and South East (LASER)
NAME:London and South East (LASER)
BEGIN:VTIMEZONE
TZID:Europe/London
TZURL:https://tzurl.org/zoneinfo/Europe/London
X-LIC-LOCATION:Europe/London
BEGIN:DAYLIGHT
TZOFFSETFROM:+0000
TZOFFSETTO:+0100
TZNAME:BST
DTSTART:20250330T020000Z
RRULE:FREQ=YEARLY;BYMONTH=3;BYDAY=-1SU
END:DAYLIGHT
BEGIN:STANDARD
TZOFFSETFROM:+0100
TZOFFSETTO:+0000
TZNAME:GMT
DTSTART:20251026T020000Z
RRULE:FREQ=YEARLY;BYMONTH=10;BYDAY=-1SU
END:STANDARD
END:VTIMEZONE
BEGIN:VEVENT
SUMMARY:Naked Swim at Petersfield Open Air Swimming Pool
DTSTAMP:20250522T184103Z
SEQUENCE:0
UID:9613-7-0712e666d78c35a5e0181a336d457050@bn.org.uk
ORGANIZER;CN="Colin Taylor":notifications@bn.org.uk
DESCRIPTION:Tickets now on sale!Petersfield Open Air Swimming Pool are w
	elcoming us back this year for a series of three skinny dips in June and A
	ugust. The pool is heated to 27 degrees C\, there is a café on site fo
	r hot &amp\; cold drinks and snacks and a BBQ – Burgers £5.There is a l
	arge public car park or if coming via public transport\, the pool is locat
	ed a 10 minute walk from the station. The Great British Skinny Dip is r
	aising funds for the British Heart Foundation. Please consider purchasing
	 a ticket with an extra £2 donated to BHF. Alternatively we will have c
	ollecting buckets for any cash donations on the night.Ticket prices:BN Mem
	ber £9.50BN Non Member £12.50BN member plus £2 donation to BHF £11
	.50Non BN member plus donation £14.50 Tickets are available to purchas
	e here.
DTSTART:20250628T173000Z
DTEND:20250628T193000Z
END:VEVENT
END:VCALENDAR
