BEGIN:VCALENDAR
VERSION:2.0
PRODID:-//InvisionCommunity Events 5.0.18//EN
METHOD:PUBLISH
CALSCALE:GREGORIAN
REFRESH-INTERVAL:PT15M
X-PUBLISHED-TTL:PT15M
X-WR-CALNAME:South West
NAME:South West
BEGIN:VTIMEZONE
TZID:Europe/London
TZURL:https://tzurl.org/zoneinfo/Europe/London
X-LIC-LOCATION:Europe/London
BEGIN:DAYLIGHT
TZOFFSETFROM:+0000
TZOFFSETTO:+0100
TZNAME:BST
DTSTART:20250330T020000Z
RRULE:FREQ=YEARLY;BYMONTH=3;BYDAY=-1SU
END:DAYLIGHT
BEGIN:STANDARD
TZOFFSETFROM:+0100
TZOFFSETTO:+0000
TZNAME:GMT
DTSTART:20251026T020000Z
RRULE:FREQ=YEARLY;BYMONTH=10;BYDAY=-1SU
END:STANDARD
END:VTIMEZONE
BEGIN:VEVENT
SUMMARY:South Wales Meet & Greet
DTSTAMP:20250521T103115Z
SEQUENCE:0
UID:9608-4-0712e666d78c35a5e0181a336d457050@bn.org.uk
ORGANIZER;CN="Sunshinekid":notifications@bn.org.uk
DESCRIPTION:                                                   15th  Ju
	ne 2025Meet &amp\; Greet  17.00 to 18.30pmThe Old White HartWine Street\,
	Llantwit MajorCF61 1RZ\, UKThis is a clothed event\,Chat at events coming 
	up in the new year around south wales.Meals are available Sunday.It will b
	e Sunday Roast\, either Lamb\, Chicken Supreme\, Beef or Nut Roast or Quo
	rn.£9.95Said to be Senior PortionsCan you let me know by Friday 13th June
	 2025 6pm\, prior to event.ThanksBobsunshinekid29@outlook.com\n
DTSTART:20250615T160000Z
DTEND:20250615T173000Z
END:VEVENT
END:VCALENDAR
