BEGIN:VCALENDAR
VERSION:2.0
PRODID:-//InvisionCommunity Events 5.0.18//EN
METHOD:PUBLISH
CALSCALE:GREGORIAN
REFRESH-INTERVAL:PT15M
X-PUBLISHED-TTL:PT15M
X-WR-CALNAME:South West
NAME:South West
BEGIN:VTIMEZONE
TZID:Europe/London
TZURL:https://tzurl.org/zoneinfo/Europe/London
X-LIC-LOCATION:Europe/London
BEGIN:DAYLIGHT
TZOFFSETFROM:+0000
TZOFFSETTO:+0100
TZNAME:BST
DTSTART:20250330T020000Z
RRULE:FREQ=YEARLY;BYMONTH=3;BYDAY=-1SU
END:DAYLIGHT
BEGIN:STANDARD
TZOFFSETFROM:+0100
TZOFFSETTO:+0000
TZNAME:GMT
DTSTART:20251026T020000Z
RRULE:FREQ=YEARLY;BYMONTH=10;BYDAY=-1SU
END:STANDARD
END:VTIMEZONE
BEGIN:VEVENT
SUMMARY:Court Farm Lakes (near Lydney) Great British Skinny Dip
DTSTAMP:20250516T213713Z
SEQUENCE:0
UID:9607-4-0712e666d78c35a5e0181a336d457050@bn.org.uk
ORGANIZER;CN="Andy Dyer":notifications@bn.org.uk
DESCRIPTION:Court Farm Lakes are holding a Great British Skinny Dip in a
	id of the British Heart Foundation.Swim tickets are available with or with
	out a BBQ (meat or veg)!More details on their website in the Events sectio
	n - https://www.courtfarmlakes.co.uk/Don't forget that on most days they h
	old Clothes Optional swims too!
DTSTART:20250524T160000Z
DTEND:20250524T190000Z
END:VEVENT
END:VCALENDAR
