BEGIN:VCALENDAR
VERSION:2.0
PRODID:-//InvisionCommunity Events 5.0.18//EN
METHOD:PUBLISH
CALSCALE:GREGORIAN
REFRESH-INTERVAL:PT15M
X-PUBLISHED-TTL:PT15M
X-WR-CALNAME:South West
NAME:South West
BEGIN:VTIMEZONE
TZID:Europe/London
TZURL:https://tzurl.org/zoneinfo/Europe/London
X-LIC-LOCATION:Europe/London
BEGIN:DAYLIGHT
TZOFFSETFROM:+0000
TZOFFSETTO:+0100
TZNAME:BST
DTSTART:20250330T020000Z
RRULE:FREQ=YEARLY;BYMONTH=3;BYDAY=-1SU
END:DAYLIGHT
BEGIN:STANDARD
TZOFFSETFROM:+0100
TZOFFSETTO:+0000
TZNAME:GMT
DTSTART:20251026T020000Z
RRULE:FREQ=YEARLY;BYMONTH=10;BYDAY=-1SU
END:STANDARD
END:VTIMEZONE
BEGIN:VEVENT
SUMMARY:WNBR Bristol
DTSTAMP:20250516T151703Z
SEQUENCE:0
UID:9606-4-0712e666d78c35a5e0181a336d457050@bn.org.uk
ORGANIZER;CN="DavidSmith":notifications@bn.org.uk
DESCRIPTION:Location: The Full Moon\, 1 North St\, Stokes Croft\, Brist
	ol BS1 3PRThe route will be 6½ miles / 10.4km of family-friendly gentle r
	iding through Bristol City Centre.Please note: only those events organised
	 through BN are covered by BN’s insurance.  Participants in other ev
	ents should make their own enquiries regarding appropriate insurance cover
	 for that event.Bristol - World Naked Bike Ride (WNBR) - Wiki information 
	site  
DTSTART:20250830T113000Z
DTEND:20250830T153000Z
END:VEVENT
END:VCALENDAR
