BEGIN:VCALENDAR
VERSION:2.0
PRODID:-//InvisionCommunity Events 5.0.18//EN
METHOD:PUBLISH
CALSCALE:GREGORIAN
REFRESH-INTERVAL:PT15M
X-PUBLISHED-TTL:PT15M
X-WR-CALNAME:South West
NAME:South West
BEGIN:VTIMEZONE
TZID:Europe/London
TZURL:https://tzurl.org/zoneinfo/Europe/London
X-LIC-LOCATION:Europe/London
BEGIN:DAYLIGHT
TZOFFSETFROM:+0000
TZOFFSETTO:+0100
TZNAME:BST
DTSTART:20250330T020000Z
RRULE:FREQ=YEARLY;BYMONTH=3;BYDAY=-1SU
END:DAYLIGHT
BEGIN:STANDARD
TZOFFSETFROM:+0100
TZOFFSETTO:+0000
TZNAME:GMT
DTSTART:20251026T020000Z
RRULE:FREQ=YEARLY;BYMONTH=10;BYDAY=-1SU
END:STANDARD
END:VTIMEZONE
BEGIN:VEVENT
SUMMARY:Shaftesbury Lido Naked Swim
DTSTAMP:20250514T164936Z
SEQUENCE:0
UID:9605-4-0712e666d78c35a5e0181a336d457050@bn.org.uk
ORGANIZER;CN="Nigel_H":notifications@bn.org.uk
DESCRIPTION:Swim in Dorset's only Lido\, with water heated to 29C.Naked 
	Swims (18+ only) now weekly\, every Tuesday evening 7pm until 8pm\, from e
	arly June to early September.Come and enjoy a swim followed by a friendly 
	cuppa\, biscuit and chat.Due to ongoing renovation work\, first swim of 20
	25 season should be Tues 3rd or Tues 10th June. Please check website https
	://www.shaftesbury-tc.gov.uk/shaftesbury-lido/timetable/ and click on Book
	 Now button.Find us in town\, at Barton Hill\, Shaftesbury\, SP7 8DQ. Free
	 parking at Barton Hill car park\, SP7 8QA\, then walk across the recreati
	on ground.Prices kept at 2024 levels\; £8 per swim. Book and pay online a
	t: https://bookwhen.com/shaftesburylido/#focus=ev-sc2x-20250602063000 Walk
	-ins only available if there are spaces\, so booking is strongly recommend
	ed.The Lido\, including the Naked Swims\, is run by Shaftesbury Town Counc
	il. As far as we know\, the only Town Council to run weekly naturist swims
	!If you are new to Shaftesbury Lido Naked Swims and would like further inf
	ormation\, please contact Lidomanager@shaftesbury-tc.gov.uk or phone 01747
	 853181
DTSTART:20250603T180000Z
DTEND:20250603T190000Z
RRULE:FREQ=WEEKLY;INTERVAL=1;UNTIL=20250902T000000;BYDAY=TU
END:VEVENT
END:VCALENDAR
