BEGIN:VCALENDAR
VERSION:2.0
PRODID:-//InvisionCommunity Events 5.0.18//EN
METHOD:PUBLISH
CALSCALE:GREGORIAN
REFRESH-INTERVAL:PT15M
X-PUBLISHED-TTL:PT15M
X-WR-CALNAME:Eastern
NAME:Eastern
BEGIN:VTIMEZONE
TZID:Europe/London
TZURL:https://tzurl.org/zoneinfo/Europe/London
X-LIC-LOCATION:Europe/London
BEGIN:DAYLIGHT
TZOFFSETFROM:+0000
TZOFFSETTO:+0100
TZNAME:BST
DTSTART:20250330T020000Z
RRULE:FREQ=YEARLY;BYMONTH=3;BYDAY=-1SU
END:DAYLIGHT
BEGIN:STANDARD
TZOFFSETFROM:+0100
TZOFFSETTO:+0000
TZNAME:GMT
DTSTART:20251026T020000Z
RRULE:FREQ=YEARLY;BYMONTH=10;BYDAY=-1SU
END:STANDARD
END:VTIMEZONE
BEGIN:VEVENT
SUMMARY:Ladies Only Naturist Swim - Leicestershire
DTSTAMP:20250513T043836Z
SEQUENCE:0
UID:9595-8-0712e666d78c35a5e0181a336d457050@bn.org.uk
ORGANIZER;CN="Nigel_Newman":notifications@bn.org.uk
DESCRIPTION:Join us for a relaxed and welcoming Ladies Only Clothing Opt
	ional Swim — an evening created especially for women to feel free\, conf
	ident\, and empowered in their own skin. You can choose to swim in a costu
	me\, go topless\, or skinny dip — it's entirely up to you. There is abso
	lutely no pressure\, just the opportunity to enjoy the water in a way that
	 feels right for you. With an all-female team both lifeguarding and runnin
	g the coffee shop\, you'll be in safe and supportive hands throughout the 
	event. We have free parking\, changing rooms\, warm showers\, toilets and 
	coffee shopPlease Note: Tow floats must be worn for safety.Location: Swim
	 Six Hills\, Six Hills Lane\, Six Hills LE14 3PRName of organiser: Swim S
	ix HillsWebsite/Facebook event link: http://swimsixhills.simplybook.it/v2
	/#bookContact email: swim@themtc.co.ukCost: £12
DTSTART:20250516T180000Z
DTEND:20250516T190000Z
END:VEVENT
END:VCALENDAR
