BEGIN:VCALENDAR
VERSION:2.0
PRODID:-//InvisionCommunity Events 5.0.18//EN
METHOD:PUBLISH
CALSCALE:GREGORIAN
REFRESH-INTERVAL:PT15M
X-PUBLISHED-TTL:PT15M
X-WR-CALNAME:North West
NAME:North West
BEGIN:VTIMEZONE
TZID:Europe/London
TZURL:https://tzurl.org/zoneinfo/Europe/London
X-LIC-LOCATION:Europe/London
BEGIN:DAYLIGHT
TZOFFSETFROM:+0000
TZOFFSETTO:+0100
TZNAME:BST
DTSTART:20250330T020000Z
RRULE:FREQ=YEARLY;BYMONTH=3;BYDAY=-1SU
END:DAYLIGHT
BEGIN:STANDARD
TZOFFSETFROM:+0100
TZOFFSETTO:+0000
TZNAME:GMT
DTSTART:20251026T020000Z
RRULE:FREQ=YEARLY;BYMONTH=10;BYDAY=-1SU
END:STANDARD
END:VTIMEZONE
BEGIN:VEVENT
SUMMARY:GBSSD @ Liverpool Sun & Air
DTSTAMP:20250510T083802Z
SEQUENCE:0
UID:9593-5-0712e666d78c35a5e0181a336d457050@bn.org.uk
ORGANIZER;CN="Grandma Jane":notifications@bn.org.uk
DESCRIPTION:Great British Skinny DipAs part of the ‘National Great Bri
	tish Skinny Dip Campaign’\, Liverpool Sun &amp\; Air Society are hosting
	 a Great British synchronized event – along with many other clubs across
	 the UK on Saturday 7th June 2025 at 12.30pm.This event is part of the BN 
	fundraising partnership with The British Heart Foundation.The GBSDC is jus
	t £14.00 payable either before or on the day for visitors. Liverpool Sun 
	&amp\; Air Society members are requested to make a donation for the charit
	y.Please contact the club to notify us of your attendance with full name a
	nd address. You will need to produce photo ID on the day.Please note – L
	iverpool Sun &amp\; Air Society do not allow dogs on site unless they are 
	assistance.To register for the event please either email – info@lsas.org
	.uk or call 07947 48 0707Lunch can also be purchased on the day with a spe
	cial offer of Soup and a Sandwich (4 fillings to choose from) at a great v
	alued price of £7.50 per person. Order by 11am and it will be served at 1
	2.30pm.
DTSTART;VALUE=DATE:20250607
END:VEVENT
END:VCALENDAR
