BEGIN:VCALENDAR
VERSION:2.0
PRODID:-//InvisionCommunity Events 5.0.18//EN
METHOD:PUBLISH
CALSCALE:GREGORIAN
REFRESH-INTERVAL:PT15M
X-PUBLISHED-TTL:PT15M
X-WR-CALNAME:North West
NAME:North West
BEGIN:VTIMEZONE
TZID:Europe/London
TZURL:https://tzurl.org/zoneinfo/Europe/London
X-LIC-LOCATION:Europe/London
BEGIN:DAYLIGHT
TZOFFSETFROM:+0000
TZOFFSETTO:+0100
TZNAME:BST
DTSTART:20250330T020000Z
RRULE:FREQ=YEARLY;BYMONTH=3;BYDAY=-1SU
END:DAYLIGHT
BEGIN:STANDARD
TZOFFSETFROM:+0100
TZOFFSETTO:+0000
TZNAME:GMT
DTSTART:20251026T020000Z
RRULE:FREQ=YEARLY;BYMONTH=10;BYDAY=-1SU
END:STANDARD
END:VTIMEZONE
BEGIN:VEVENT
SUMMARY:CANCELLED! Pre Shap Lido Naked Walk (Howgills)
DTSTAMP:20250508T105416Z
SEQUENCE:0
UID:9592-5-0712e666d78c35a5e0181a336d457050@bn.org.uk
ORGANIZER;CN="David2017":notifications@bn.org.uk
DESCRIPTION:The event is cancelled due to the weather forecast. We will 
	attempt to run it at a later date.Pre Shap Lido Naked walk.NOTE: EARLIER S
	TART TIME!We plan to do a clothing-optional walk near to Shap\, before the
	 Lido event. We will be doing a new route in The Howgills: Randygill Top 
	and Green Bell from near Weasdale Farm\, Ravenstonedale.The walk will be a
	bout 10 km / 6.6 miles with 490 m / 1607 ft of ascent.We will meet at 12:4
	5 and aim to start walking at 1pm\, and be finished in time to get to the 
	Lido for 6pm.For more details or to confirm your attendance\, mailto: davi
	d.butterfield@bn.org.uk
DTSTART:20250603T114500Z
END:VEVENT
END:VCALENDAR
