BEGIN:VCALENDAR
VERSION:2.0
PRODID:-//InvisionCommunity Events 5.0.18//EN
METHOD:PUBLISH
CALSCALE:GREGORIAN
REFRESH-INTERVAL:PT15M
X-PUBLISHED-TTL:PT15M
X-WR-CALNAME:London and South East (LASER)
NAME:London and South East (LASER)
BEGIN:VTIMEZONE
TZID:Europe/London
TZURL:https://tzurl.org/zoneinfo/Europe/London
X-LIC-LOCATION:Europe/London
BEGIN:DAYLIGHT
TZOFFSETFROM:+0000
TZOFFSETTO:+0100
TZNAME:BST
DTSTART:20250330T020000Z
RRULE:FREQ=YEARLY;BYMONTH=3;BYDAY=-1SU
END:DAYLIGHT
BEGIN:STANDARD
TZOFFSETFROM:+0100
TZOFFSETTO:+0000
TZNAME:GMT
DTSTART:20251026T020000Z
RRULE:FREQ=YEARLY;BYMONTH=10;BYDAY=-1SU
END:STANDARD
END:VTIMEZONE
BEGIN:VEVENT
SUMMARY:WNBR Eastbourne
DTSTAMP:20250508T091321Z
SEQUENCE:0
UID:9588-7-0712e666d78c35a5e0181a336d457050@bn.org.uk
ORGANIZER;CN="DavidSmith":notifications@bn.org.uk
DESCRIPTION:\n	Time: 10:30 for a 12:00 start\n\n	Location: Note: By th
	e pylon\, Bay Tree Lane (near Cophall services)\, Polegate.\n\n\n\n	We fol
	low the Cycle Route from the start\, then turn right at the bypass flyover
	 bridge. Same brilliant coffee break at Costa\, and a skinny dip at the fi
	nish at the Harbour Reach Kiosk.\n\n\n\n	Eastbourne - World Naked Bike Rid
	e (WNBR) - Wiki information site\n\n
DTSTART:20250706T093000Z
END:VEVENT
END:VCALENDAR
