BEGIN:VCALENDAR
VERSION:2.0
PRODID:-//InvisionCommunity Events 5.0.18//EN
METHOD:PUBLISH
CALSCALE:GREGORIAN
REFRESH-INTERVAL:PT15M
X-PUBLISHED-TTL:PT15M
X-WR-CALNAME:Scotland and North East (SANER)
NAME:Scotland and North East (SANER)
BEGIN:VTIMEZONE
TZID:Europe/London
TZURL:https://tzurl.org/zoneinfo/Europe/London
X-LIC-LOCATION:Europe/London
BEGIN:DAYLIGHT
TZOFFSETFROM:+0000
TZOFFSETTO:+0100
TZNAME:BST
DTSTART:20250330T020000Z
RRULE:FREQ=YEARLY;BYMONTH=3;BYDAY=-1SU
END:DAYLIGHT
BEGIN:STANDARD
TZOFFSETFROM:+0100
TZOFFSETTO:+0000
TZNAME:GMT
DTSTART:20251026T020000Z
RRULE:FREQ=YEARLY;BYMONTH=10;BYDAY=-1SU
END:STANDARD
END:VTIMEZONE
BEGIN:VEVENT
SUMMARY:Edinburgh Festival Forth Boat Trip
DTSTAMP:20250507T211203Z
SEQUENCE:0
UID:9587-3-0712e666d78c35a5e0181a336d457050@bn.org.uk
ORGANIZER;CN="Steve Froggatt":notifications@bn.org.uk
DESCRIPTION:\n	Celebrate the Edinburgh International Festival finale wit
	h a naturist Boat Trip on the Forth departing from Port Edgar Marina in So
	uth Queensferry just outside Edinburgh.  A brilliant way to end the festi
	val with opportunity to sail naked under the iconic World Heritage Forth B
	ridge and its other 2 sisters the Forth Road Bridge and the Queensferry Cr
	ossing.  Our boat the Queensferry Belle which has heated saloon and open 
	deck spaces\, so all weather conditions are covered.  There is a bar on b
	oard and toilets.\n\n\n\n	Open to all naturists at £25 per head and you c
	an book here.\n\n\n\n	Final joining information will be issued prior to th
	e event with parking information\,\n\n\n\n	\n\n\n\n	 \n\n\n\n	 \n\n\n\n	
	\n\n\n\n	 \n\n\n\n	\n\n\n\n	\n\n\n\n	\n\n\n\n	\n\n
DTSTART:20250824T133000Z
DTEND:20250824T160000Z
END:VEVENT
END:VCALENDAR
