BEGIN:VCALENDAR
VERSION:2.0
PRODID:-//InvisionCommunity Events 5.0.18//EN
METHOD:PUBLISH
CALSCALE:GREGORIAN
REFRESH-INTERVAL:PT15M
X-PUBLISHED-TTL:PT15M
X-WR-CALNAME:Eastern
NAME:Eastern
BEGIN:VTIMEZONE
TZID:Europe/London
TZURL:https://tzurl.org/zoneinfo/Europe/London
X-LIC-LOCATION:Europe/London
BEGIN:DAYLIGHT
TZOFFSETFROM:+0000
TZOFFSETTO:+0100
TZNAME:BST
DTSTART:20250330T020000Z
RRULE:FREQ=YEARLY;BYMONTH=3;BYDAY=-1SU
END:DAYLIGHT
BEGIN:STANDARD
TZOFFSETFROM:+0100
TZOFFSETTO:+0000
TZNAME:GMT
DTSTART:20251026T020000Z
RRULE:FREQ=YEARLY;BYMONTH=10;BYDAY=-1SU
END:STANDARD
END:VTIMEZONE
BEGIN:VEVENT
SUMMARY:Peterborough Lido swim
DTSTAMP:20250507T113006Z
SEQUENCE:0
UID:9585-8-0712e666d78c35a5e0181a336d457050@bn.org.uk
ORGANIZER;CN="nigel.bromley":notifications@bn.org.uk
DESCRIPTION:Peterborough Lido Naturist SwimEastern Region has had very e
	njoyable visits at the Lido since 2019 and are pleased to announce that we
	 have booked Peterborough Lido again for a naturist swim in 2025. This is
	 a wonderful example of a 1930s Lido with three heated pools.We have the p
	ool from 18:30 until 20:30.The price remains as last year\, £12 for BN me
	mbers and £14 for others. Entry is by ticket only\, and tickets are avail
	able to book here.The Lido is at PE1 1YY and is easily accessible from the
	 Peterborough grid roads\, from the A1 or the A47\, via the A1139. The lar
	ge car park is on the left as you approach on Bishops Road having left the
	 A1139 at the City Centre exit. It is also accessible from Peterborough ra
	ilway station\, about a 1200-metre walk.Watch the unhelpful charges at the
	 \"Bishops Road\" car park. It is Pay-and-Display and if you arrive after 
	18:00 you will need to pay £3.50 for 2 hours until the free time starts a
	t 20:00\; if you arrive before 18:00 it'll be £6.50! \"Riverside\" car pa
	rk might be cheaper for between 3 and 4 hours.nib
DTSTART:20250705T173000Z
DTEND:20250705T193000Z
END:VEVENT
END:VCALENDAR
