BEGIN:VCALENDAR
VERSION:2.0
PRODID:-//InvisionCommunity Events 5.0.18//EN
METHOD:PUBLISH
CALSCALE:GREGORIAN
REFRESH-INTERVAL:PT15M
X-PUBLISHED-TTL:PT15M
X-WR-CALNAME:South West
NAME:South West
BEGIN:VTIMEZONE
TZID:Europe/London
TZURL:https://tzurl.org/zoneinfo/Europe/London
X-LIC-LOCATION:Europe/London
BEGIN:DAYLIGHT
TZOFFSETFROM:+0000
TZOFFSETTO:+0100
TZNAME:BST
DTSTART:20250330T020000Z
RRULE:FREQ=YEARLY;BYMONTH=3;BYDAY=-1SU
END:DAYLIGHT
BEGIN:STANDARD
TZOFFSETFROM:+0100
TZOFFSETTO:+0000
TZNAME:GMT
DTSTART:20251026T020000Z
RRULE:FREQ=YEARLY;BYMONTH=10;BYDAY=-1SU
END:STANDARD
END:VTIMEZONE
BEGIN:VEVENT
SUMMARY:Cardiff Cuppa\, Crafts & Chatter Meet up
DTSTAMP:20250430T190731Z
SEQUENCE:0
UID:9581-4-0712e666d78c35a5e0181a336d457050@bn.org.uk
ORGANIZER;CN="lashmo21":notifications@bn.org.uk
DESCRIPTION:\n	*** NEW VENUE****NEW TIME****\n\n\n\n	We have a new bigge
	r\, brighter venue\, so please come and join our meet up in Cardiff City C
	entre.\n\n\n\n	We are a lovely friendly group of naturists (though it is c
	lothing optional) that enjoy a cuppa\, some very simple crafts and a good 
	chatter.\n\n\n\n	There is now a charge of £3.00 per person for the meet u
	p including a cuppa and biscuit.  There is also a £1.00 (at least) donat
	ion for the crafts.\n\n\n\n	Please email me if you wish to attend this eve
	nt on linda.ashmore@bn.org.uk \n\n
DTSTART:20250504T133000Z
DTEND:20250504T153000Z
END:VEVENT
END:VCALENDAR
