BEGIN:VCALENDAR
VERSION:2.0
PRODID:-//InvisionCommunity Events 5.0.18//EN
METHOD:PUBLISH
CALSCALE:GREGORIAN
REFRESH-INTERVAL:PT15M
X-PUBLISHED-TTL:PT15M
X-WR-CALNAME:London and South East (LASER)
NAME:London and South East (LASER)
BEGIN:VTIMEZONE
TZID:Europe/London
TZURL:https://tzurl.org/zoneinfo/Europe/London
X-LIC-LOCATION:Europe/London
BEGIN:DAYLIGHT
TZOFFSETFROM:+0000
TZOFFSETTO:+0100
TZNAME:BST
DTSTART:20250330T020000Z
RRULE:FREQ=YEARLY;BYMONTH=3;BYDAY=-1SU
END:DAYLIGHT
BEGIN:STANDARD
TZOFFSETFROM:+0100
TZOFFSETTO:+0000
TZNAME:GMT
DTSTART:20251026T020000Z
RRULE:FREQ=YEARLY;BYMONTH=10;BYDAY=-1SU
END:STANDARD
END:VTIMEZONE
BEGIN:VEVENT
SUMMARY:HOUGHTON LODGE GARDENS NATURIST EVENING
DTSTAMP:20250428T075650Z
SEQUENCE:0
UID:9580-7-0712e666d78c35a5e0181a336d457050@bn.org.uk
ORGANIZER;CN="Geoffrey Ryder":notifications@bn.org.uk
DESCRIPTION:The gardens will open for naturist visitors from 5.30 pm and
	 will remain open until 8.30 pm.  The gardens themselves are a delightful
	 mixture of formal planting and more natural settings\, and include direct
	 access to the banks of the River Test. This year we will have a Treasure
	 Hunt and an optional barbeque at £28 which includes admission to the gar
	dens which must be booked in advance through the gardens by emailing appl
	erooms@houghtonlodge.co.uk telling them you want to book the BN barbeque 
	on Wednesday 18th June and  they we will send you an invoice for payment 
	through Stripe a confirmation email/ticket will then be sent to you on rec
	eipt of the payment.If you do not wish to participate in the barbeque no p
	re-booking is required. You can simply pay on arrival using either cash or
	 card. Admission to the gardens is £10.50There is ample parking available
	 at the gardens\, which are located close to Stockbridge in Hampshire. You
	 can find more information about the gardens including directions and acco
	mmodation if you wish to stay in the area for the Ackling Dyke walk on Tue
	sday 17th June and the Dunbridge walk and Naked Dinner and Skittles at the
	 Mill Arms Dunbridge on the following day Thursday 19th June  see the we
	bsite or The Apple Rooms - self catering accommodation near Stockbridge fo
	r accommodation   
	                     
	                                Whilst the
	 Houghton Lodge team are very supportive of naturism\, they ask that visit
	ors remain dressed until they are inside the gardens - there will be an ar
	ea to undress and leave clothes inside the gardens. Thank you for your und
	erstanding on this point.Address of the gardens Houghton Lodge\, North Hou
	ghton\, Stockbridge. SO20 6LQFor further information email geoffrey.ryder@
	bn.org.uk
DTSTART:20250618T163000Z
DTEND:20250618T193000Z
END:VEVENT
END:VCALENDAR
