BEGIN:VCALENDAR
VERSION:2.0
PRODID:-//InvisionCommunity Events 5.0.18//EN
METHOD:PUBLISH
CALSCALE:GREGORIAN
REFRESH-INTERVAL:PT15M
X-PUBLISHED-TTL:PT15M
X-WR-CALNAME:Yorkshire and East Midlands
NAME:Yorkshire and East Midlands
BEGIN:VTIMEZONE
TZID:Europe/London
TZURL:https://tzurl.org/zoneinfo/Europe/London
X-LIC-LOCATION:Europe/London
BEGIN:DAYLIGHT
TZOFFSETFROM:+0000
TZOFFSETTO:+0100
TZNAME:BST
DTSTART:20250330T020000Z
RRULE:FREQ=YEARLY;BYMONTH=3;BYDAY=-1SU
END:DAYLIGHT
BEGIN:STANDARD
TZOFFSETFROM:+0100
TZOFFSETTO:+0000
TZNAME:GMT
DTSTART:20251026T020000Z
RRULE:FREQ=YEARLY;BYMONTH=10;BYDAY=-1SU
END:STANDARD
END:VTIMEZONE
BEGIN:VEVENT
SUMMARY:Bircotes Swim
DTSTAMP:20250427T091630Z
SEQUENCE:0
UID:9579-6-0712e666d78c35a5e0181a336d457050@bn.org.uk
ORGANIZER;CN="Andrew.Davies":notifications@bn.org.uk
DESCRIPTION:\n	It starts at 7pm till 9.00pm. Future events will take pla
	ce on EVERY second Saturday of the month.\n\n\n\n	 \n\n\n\n	Entry is £12
	 per person which non refundable if you don't attend.\n\n\n\n	 \n\n\n\n	B
	ircotes Leisure Centre\,\n\n\n\n	White House Rd\, Bircotes\,\n\n\n\n	Donca
	ster DN11 8EF.\n\n\n\n	 \n\n\n\n	DONT WORRY ABOUT SWIMMING\, You can stan
	d and chat in shallow end or play table tennis\, badminton or use the saun
	a\, it really is up to you.\n\n\n\n	 \n\n\n\n	Please bring a towel and fl
	ipflops\, £1 for the lockers ( refundable ) and either a drink or change 
	for the vendors.\n\n\n\n	 \n\n\n\n	Please email Stephen and Mel Johnstone
	 to book in advance by the Thursday before sjohnstone006@aol\,com\n\n
DTSTART:20250510T180000Z
DTEND:20250510T200000Z
END:VEVENT
END:VCALENDAR
